BEGIN:VCALENDAR
VERSION:2.0
PRODID:-//Wayne Ballet &amp; Center for Dance Arts - ECPv6.15.17.1//NONSGML v1.0//EN
CALSCALE:GREGORIAN
METHOD:PUBLISH
X-WR-CALNAME:Wayne Ballet &amp; Center for Dance Arts
X-ORIGINAL-URL:https://www.wayneballetschool.com
X-WR-CALDESC:Events for Wayne Ballet &amp; Center for Dance Arts
REFRESH-INTERVAL;VALUE=DURATION:PT1H
X-Robots-Tag:noindex
X-PUBLISHED-TTL:PT1H
BEGIN:VTIMEZONE
TZID:America/New_York
BEGIN:DAYLIGHT
TZOFFSETFROM:-0500
TZOFFSETTO:-0400
TZNAME:EDT
DTSTART:20210314T070000
END:DAYLIGHT
BEGIN:STANDARD
TZOFFSETFROM:-0400
TZOFFSETTO:-0500
TZNAME:EST
DTSTART:20211107T060000
END:STANDARD
BEGIN:DAYLIGHT
TZOFFSETFROM:-0500
TZOFFSETTO:-0400
TZNAME:EDT
DTSTART:20220313T070000
END:DAYLIGHT
BEGIN:STANDARD
TZOFFSETFROM:-0400
TZOFFSETTO:-0500
TZNAME:EST
DTSTART:20221106T060000
END:STANDARD
BEGIN:DAYLIGHT
TZOFFSETFROM:-0500
TZOFFSETTO:-0400
TZNAME:EDT
DTSTART:20230312T070000
END:DAYLIGHT
BEGIN:STANDARD
TZOFFSETFROM:-0400
TZOFFSETTO:-0500
TZNAME:EST
DTSTART:20231105T060000
END:STANDARD
BEGIN:DAYLIGHT
TZOFFSETFROM:-0500
TZOFFSETTO:-0400
TZNAME:EDT
DTSTART:20240310T070000
END:DAYLIGHT
BEGIN:STANDARD
TZOFFSETFROM:-0400
TZOFFSETTO:-0500
TZNAME:EST
DTSTART:20241103T060000
END:STANDARD
BEGIN:DAYLIGHT
TZOFFSETFROM:-0500
TZOFFSETTO:-0400
TZNAME:EDT
DTSTART:20250309T070000
END:DAYLIGHT
BEGIN:STANDARD
TZOFFSETFROM:-0400
TZOFFSETTO:-0500
TZNAME:EST
DTSTART:20251102T060000
END:STANDARD
BEGIN:DAYLIGHT
TZOFFSETFROM:-0500
TZOFFSETTO:-0400
TZNAME:EDT
DTSTART:20260308T070000
END:DAYLIGHT
BEGIN:STANDARD
TZOFFSETFROM:-0400
TZOFFSETTO:-0500
TZNAME:EST
DTSTART:20261101T060000
END:STANDARD
END:VTIMEZONE
BEGIN:VEVENT
DTSTART;VALUE=DATE:20250330
DTEND;VALUE=DATE:20250331
DTSTAMP:20260421T222216
CREATED:20250322T195552Z
LAST-MODIFIED:20250322T195554Z
UID:5542-1743292800-1743379199@www.wayneballetschool.com
SUMMARY:Session 4 Begins
DESCRIPTION:
URL:https://www.wayneballetschool.com/event/session-4-begins-8/
LOCATION:PA
END:VEVENT
BEGIN:VEVENT
DTSTART;VALUE=DATE:20250329
DTEND;VALUE=DATE:20250330
DTSTAMP:20260421T222216
CREATED:20250322T195527Z
LAST-MODIFIED:20250322T195529Z
UID:5540-1743206400-1743292799@www.wayneballetschool.com
SUMMARY:Session 3 Ends
DESCRIPTION:
URL:https://www.wayneballetschool.com/event/session-3-ends-8/
LOCATION:PA
END:VEVENT
BEGIN:VEVENT
DTSTART;VALUE=DATE:20250126
DTEND;VALUE=DATE:20250127
DTSTAMP:20260421T222216
CREATED:20241121T034459Z
LAST-MODIFIED:20241121T034459Z
UID:5462-1737849600-1737935999@www.wayneballetschool.com
SUMMARY:Session 3 Begins
DESCRIPTION:
URL:https://www.wayneballetschool.com/event/session-3-begins-9/
LOCATION:PA
END:VEVENT
BEGIN:VEVENT
DTSTART;VALUE=DATE:20250125
DTEND;VALUE=DATE:20250126
DTSTAMP:20260421T222216
CREATED:20240903T221715Z
LAST-MODIFIED:20241121T034254Z
UID:5385-1737763200-1737849599@www.wayneballetschool.com
SUMMARY:Session 2 Ends
DESCRIPTION:
URL:https://www.wayneballetschool.com/event/session-2-ends-7/
LOCATION:PA
END:VEVENT
BEGIN:VEVENT
DTSTART;TZID=America/New_York:20241221T080000
DTEND;TZID=America/New_York:20250103T170000
DTSTAMP:20260421T222216
CREATED:20241030T222259Z
LAST-MODIFIED:20241210T032546Z
UID:5436-1734768000-1735923600@www.wayneballetschool.com
SUMMARY:Winter Break- Studio Closed
DESCRIPTION:There will be no classes Sat Dec 21st.  There will be classes Sat Jan 4th.
URL:https://www.wayneballetschool.com/event/winter-break-studio-closed-5/
LOCATION:PA
END:VEVENT
BEGIN:VEVENT
DTSTART;TZID=America/New_York:20241127T080000
DTEND;TZID=America/New_York:20241201T170000
DTSTAMP:20260421T222216
CREATED:20241030T222430Z
LAST-MODIFIED:20241030T222432Z
UID:5438-1732694400-1733072400@www.wayneballetschool.com
SUMMARY:Fall Break- studio closed
DESCRIPTION:
URL:https://www.wayneballetschool.com/event/fall-break-studio-closed/
LOCATION:PA
END:VEVENT
BEGIN:VEVENT
DTSTART;VALUE=DATE:20241104
DTEND;VALUE=DATE:20241105
DTSTAMP:20260421T222216
CREATED:20240903T221648Z
LAST-MODIFIED:20240903T221648Z
UID:5383-1730678400-1730764799@www.wayneballetschool.com
SUMMARY:Session 2 Starts
DESCRIPTION:
URL:https://www.wayneballetschool.com/event/session-2-starts-2/
LOCATION:PA
END:VEVENT
BEGIN:VEVENT
DTSTART;VALUE=DATE:20241103
DTEND;VALUE=DATE:20241104
DTSTAMP:20260421T222216
CREATED:20240903T221604Z
LAST-MODIFIED:20240917T220314Z
UID:5381-1730592000-1730678399@www.wayneballetschool.com
SUMMARY:Session 1 Ends
DESCRIPTION:
URL:https://www.wayneballetschool.com/event/session-1-ends-8/
LOCATION:PA
END:VEVENT
BEGIN:VEVENT
DTSTART;VALUE=DATE:20241031
DTEND;VALUE=DATE:20241101
DTSTAMP:20260421T222216
CREATED:20241030T222143Z
LAST-MODIFIED:20241030T222146Z
UID:5434-1730332800-1730419199@www.wayneballetschool.com
SUMMARY:Halloween- studio closed
DESCRIPTION:
URL:https://www.wayneballetschool.com/event/halloween-studio-closed-3/
LOCATION:PA
END:VEVENT
BEGIN:VEVENT
DTSTART;VALUE=DATE:20240903
DTEND;VALUE=DATE:20240904
DTSTAMP:20260421T222216
CREATED:20240903T221528Z
LAST-MODIFIED:20240903T221528Z
UID:5379-1725321600-1725407999@www.wayneballetschool.com
SUMMARY:Session 1 Starts
DESCRIPTION:
URL:https://www.wayneballetschool.com/event/session-1-starts-2/
LOCATION:PA
END:VEVENT
BEGIN:VEVENT
DTSTART;VALUE=DATE:20240608
DTEND;VALUE=DATE:20240610
DTSTAMP:20260421T222216
CREATED:20240106T214706Z
LAST-MODIFIED:20240106T214707Z
UID:5280-1717804800-1717977599@www.wayneballetschool.com
SUMMARY:Showcase Performances
DESCRIPTION:
URL:https://www.wayneballetschool.com/event/showcase-performances-3/
LOCATION:Agnes Irwin School\, 275 S Ithan Ave\, Rosemont\, PA\, 19010\, United States
END:VEVENT
BEGIN:VEVENT
DTSTART;VALUE=DATE:20240503
DTEND;VALUE=DATE:20240506
DTSTAMP:20260421T222216
CREATED:20240106T214638Z
LAST-MODIFIED:20240317T143241Z
UID:5278-1714694400-1714953599@www.wayneballetschool.com
SUMMARY:Spring Ballet Performances- Alice in Wonderland
DESCRIPTION:
URL:https://www.wayneballetschool.com/event/spring-ballet-performances-alice-in-wonderland/
LOCATION:Agnes Irwin School\, 275 S Ithan Ave\, Rosemont\, PA\, 19010\, United States
END:VEVENT
BEGIN:VEVENT
DTSTART;VALUE=DATE:20240408
DTEND;VALUE=DATE:20240409
DTSTAMP:20260421T222216
CREATED:20230928T034632Z
LAST-MODIFIED:20230928T034632Z
UID:5256-1712534400-1712620799@www.wayneballetschool.com
SUMMARY:Session 4 Begins
DESCRIPTION:
URL:https://www.wayneballetschool.com/event/session-4-begins-7/
LOCATION:PA
END:VEVENT
BEGIN:VEVENT
DTSTART;VALUE=DATE:20240325
DTEND;VALUE=DATE:20240401
DTSTAMP:20260421T222216
CREATED:20221003T182027Z
LAST-MODIFIED:20230928T034054Z
UID:5105-1711324800-1711929599@www.wayneballetschool.com
SUMMARY:Spring Break- Studio Closed
DESCRIPTION:
URL:https://www.wayneballetschool.com/event/martin-luther-king-jr-day-studio-closed/
LOCATION:PA
END:VEVENT
BEGIN:VEVENT
DTSTART;VALUE=DATE:20240129
DTEND;VALUE=DATE:20240130
DTSTAMP:20260421T222216
CREATED:20230928T034551Z
LAST-MODIFIED:20230928T034551Z
UID:5254-1706486400-1706572799@www.wayneballetschool.com
SUMMARY:Session 3 Begins
DESCRIPTION:
URL:https://www.wayneballetschool.com/event/session-3-begins-8/
LOCATION:PA
END:VEVENT
BEGIN:VEVENT
DTSTART;VALUE=DATE:20240115
DTEND;VALUE=DATE:20240116
DTSTAMP:20260421T222216
CREATED:20240113T151029Z
LAST-MODIFIED:20240113T151030Z
UID:5285-1705276800-1705363199@www.wayneballetschool.com
SUMMARY:MLK Day- Studio Closed
DESCRIPTION:
URL:https://www.wayneballetschool.com/event/mlk-day-studio-closed-4/
LOCATION:PA
END:VEVENT
BEGIN:VEVENT
DTSTART;TZID=America/New_York:20240112T183000
DTEND;TZID=America/New_York:20240113T153000
DTSTAMP:20260421T222216
CREATED:20240106T214914Z
LAST-MODIFIED:20240111T212538Z
UID:5282-1705084200-1705159800@www.wayneballetschool.com
SUMMARY:Alice in Wonderland Auditions
DESCRIPTION:ALICE IN WONDERLAND AUDITIONS 2024!  \nFriday\, Jan 12th and Saturday\, Jan 13th \nDancers are assigned time slots for auditions by level- schedule below.  Please arrive 5 minutes early to sign in and receive a number.  Regular class attire should be worn for auditions (please no warm ups or loose fitting clothing)!  Please note Spring Ballet is an additional commitment and rehearsals are scheduled separately from weekly classes.  Students will be expected to attend weekly Saturday afternoon rehearsals\, with the addition of Friday for advanced dancers\, and some Sundays for the whole cast as we get closer to show date.  Performance weekend will be May 10-12th at the Agnes Irwin School! \nAUDITION SCHEDULE \nFriday 1/12 \n6:30- 8:00PM    Ballet 4X through Ballet 6 \nSaturday 1/13 \n1:30- 2:00PM    Ballet 1 and Ballet 1X \n2:00- 2:30PM    Ballet 2 \n2:30- 3:00PM    Ballet 2X through Ballet 3 \n3:00- 3:30PM  Ballet 3 and Ballet 3X
URL:https://www.wayneballetschool.com/event/alice-in-wonderland-auditions/
LOCATION:PA
ATTACH;FMTTYPE=image/jpeg:https://www.wayneballetschool.com/wp-content/uploads/2024/01/alice-2.jpeg
END:VEVENT
BEGIN:VEVENT
DTSTART;VALUE=DATE:20231219
DTEND;VALUE=DATE:20240102
DTSTAMP:20260421T222216
CREATED:20221003T181947Z
LAST-MODIFIED:20230928T033930Z
UID:5103-1702944000-1704153599@www.wayneballetschool.com
SUMMARY:Winter Break-Studio Closed
DESCRIPTION:
URL:https://www.wayneballetschool.com/event/christmas-break-studio-closed/
LOCATION:PA
END:VEVENT
BEGIN:VEVENT
DTSTART;VALUE=DATE:20231215
DTEND;VALUE=DATE:20231218
DTSTAMP:20260421T222216
CREATED:20221003T181231Z
LAST-MODIFIED:20231112T210952Z
UID:5096-1702598400-1702857599@www.wayneballetschool.com
SUMMARY:Nutcracker Performance Weekend @ AIS
DESCRIPTION:Dress Rehearsal Fri 12/15 \nShow # 1 Sat 12/16 @ 2:00 \nShow # 2 Sat 12/16 @ 7:00 \nShow # 3 Sun 12/17 @ 2:00 \nTo purchase tickets- https://dancestudio-pro.com/tickets/wayneballet \n 
URL:https://www.wayneballetschool.com/event/nutcracker-performances-4/
LOCATION:Agnes Irwin School\, 275 S Ithan Ave\, Rosemont\, PA\, 19010\, United States
ATTACH;FMTTYPE=image/png:https://www.wayneballetschool.com/wp-content/uploads/2022/10/nutcracker-2023-Poster.png
END:VEVENT
BEGIN:VEVENT
DTSTART;TZID=America/New_York:20231206T100000
DTEND;TZID=America/New_York:20231206T120000
DTSTAMP:20260421T222216
CREATED:20221013T202529Z
LAST-MODIFIED:20230928T033501Z
UID:5113-1701856800-1701864000@www.wayneballetschool.com
SUMMARY:Nutcracker showing at Tarleton
DESCRIPTION:
URL:https://www.wayneballetschool.com/event/nutcracker-showing-at-tarleton/
LOCATION:The Tarleton Day School\, 327 Waterloo Ave\, Berwyn\, PA\, United States
END:VEVENT
BEGIN:VEVENT
DTSTART;VALUE=DATE:20231122
DTEND;VALUE=DATE:20231127
DTSTAMP:20260421T222216
CREATED:20221003T181622Z
LAST-MODIFIED:20230928T034213Z
UID:5100-1700611200-1701043199@www.wayneballetschool.com
SUMMARY:Thanksgiving Break- Studio Closed
DESCRIPTION:
URL:https://www.wayneballetschool.com/event/thanksgiving-break-studio-closed-5/
LOCATION:PA
END:VEVENT
BEGIN:VEVENT
DTSTART;VALUE=DATE:20231106
DTEND;VALUE=DATE:20231107
DTSTAMP:20260421T222216
CREATED:20230928T034524Z
LAST-MODIFIED:20230928T034524Z
UID:5252-1699228800-1699315199@www.wayneballetschool.com
SUMMARY:Session 2 Begins
DESCRIPTION:
URL:https://www.wayneballetschool.com/event/session-2-begins-8/
LOCATION:PA
END:VEVENT
BEGIN:VEVENT
DTSTART;VALUE=DATE:20230905
DTEND;VALUE=DATE:20230906
DTSTAMP:20260421T222216
CREATED:20230804T042025Z
LAST-MODIFIED:20230804T042025Z
UID:5237-1693872000-1693958399@www.wayneballetschool.com
SUMMARY:Session 1 Begins!
DESCRIPTION:
URL:https://www.wayneballetschool.com/event/session-1-begins-8/
LOCATION:Wayne Ballet Studios\, 335 W. Lancaster Ave\, Wayne\, PA\, 19087\, United States
END:VEVENT
BEGIN:VEVENT
DTSTART;TZID=America/New_York:20230807T090000
DTEND;TZID=America/New_York:20230811T160000
DTSTAMP:20260421T222216
CREATED:20230308T222658Z
LAST-MODIFIED:20230804T041924Z
UID:5161-1691398800-1691769600@www.wayneballetschool.com
SUMMARY:Advanced Summer Intensive
DESCRIPTION:
URL:https://www.wayneballetschool.com/event/summer-intensives-beginner-advanced/
LOCATION:PA
END:VEVENT
BEGIN:VEVENT
DTSTART;TZID=America/New_York:20230710T163000
DTEND;TZID=America/New_York:20230806T203000
DTSTAMP:20260421T222216
CREATED:20230308T222601Z
LAST-MODIFIED:20230308T222601Z
UID:5159-1689006600-1691353800@www.wayneballetschool.com
SUMMARY:Summer Mini-Session
DESCRIPTION:Brochure & registration info will be added soon!
URL:https://www.wayneballetschool.com/event/summer-mini-session-5/
LOCATION:PA
END:VEVENT
BEGIN:VEVENT
DTSTART;VALUE=DATE:20230611
DTEND;VALUE=DATE:20230612
DTSTAMP:20260421T222216
CREATED:20230115T184404Z
LAST-MODIFIED:20230115T184404Z
UID:5143-1686441600-1686527999@www.wayneballetschool.com
SUMMARY:Showcase Performances
DESCRIPTION:
URL:https://www.wayneballetschool.com/event/showcase-performances-2/
LOCATION:Agnes Irwin School\, 275 S Ithan Ave\, Rosemont\, PA\, 19010\, United States
END:VEVENT
BEGIN:VEVENT
DTSTART;VALUE=DATE:20230610
DTEND;VALUE=DATE:20230611
DTSTAMP:20260421T222216
CREATED:20230115T184309Z
LAST-MODIFIED:20230115T184309Z
UID:5141-1686355200-1686441599@www.wayneballetschool.com
SUMMARY:Showcase Dress Rehearsal
DESCRIPTION:
URL:https://www.wayneballetschool.com/event/showcase-dress-rehearsal-3/
LOCATION:Agnes Irwin School\, 275 S Ithan Ave\, Rosemont\, PA\, 19010\, United States
END:VEVENT
BEGIN:VEVENT
DTSTART;TZID=America/New_York:20230506T140000
DTEND;TZID=America/New_York:20230507T170000
DTSTAMP:20260421T222216
CREATED:20230115T184711Z
LAST-MODIFIED:20230420T185210Z
UID:5145-1683381600-1683478800@www.wayneballetschool.com
SUMMARY:Cinderella - Spring Ballet
DESCRIPTION:
URL:https://www.wayneballetschool.com/event/cinderella-spring-ballet-tentative-dates/
LOCATION:Upper Merion Middle School\, 450 Keebler Road\, King of Prussia\, PA\, 19406\, United States
END:VEVENT
BEGIN:VEVENT
DTSTART;VALUE=DATE:20230116
DTEND;VALUE=DATE:20230117
DTSTAMP:20260421T222216
CREATED:20221010T022005Z
LAST-MODIFIED:20221010T022005Z
UID:5111-1673827200-1673913599@www.wayneballetschool.com
SUMMARY:Martin Luther King Jr Day - Studio Closed
DESCRIPTION:
URL:https://www.wayneballetschool.com/event/martin-luther-king-jr-day-studio-closed-2/
LOCATION:PA
END:VEVENT
BEGIN:VEVENT
DTSTART;VALUE=DATE:20221216
DTEND;VALUE=DATE:20221217
DTSTAMP:20260421T222216
CREATED:20221003T181333Z
LAST-MODIFIED:20221003T181333Z
UID:5098-1671148800-1671235199@www.wayneballetschool.com
SUMMARY:Nutcracker Dress Rehearsal
DESCRIPTION:
URL:https://www.wayneballetschool.com/event/nutcracker-dress-rehearsal-3/
LOCATION:Agnes Irwin School\, 275 S Ithan Ave\, Rosemont\, PA\, 19010\, United States
END:VEVENT
END:VCALENDAR