BEGIN:VCALENDAR
VERSION:2.0
PRODID:-//Wayne Ballet &amp; Center for Dance Arts - ECPv6.15.17.1//NONSGML v1.0//EN
CALSCALE:GREGORIAN
METHOD:PUBLISH
X-WR-CALNAME:Wayne Ballet &amp; Center for Dance Arts
X-ORIGINAL-URL:https://www.wayneballetschool.com
X-WR-CALDESC:Events for Wayne Ballet &amp; Center for Dance Arts
REFRESH-INTERVAL;VALUE=DURATION:PT1H
X-Robots-Tag:noindex
X-PUBLISHED-TTL:PT1H
BEGIN:VTIMEZONE
TZID:America/New_York
BEGIN:DAYLIGHT
TZOFFSETFROM:-0500
TZOFFSETTO:-0400
TZNAME:EDT
DTSTART:20230312T070000
END:DAYLIGHT
BEGIN:STANDARD
TZOFFSETFROM:-0400
TZOFFSETTO:-0500
TZNAME:EST
DTSTART:20231105T060000
END:STANDARD
BEGIN:DAYLIGHT
TZOFFSETFROM:-0500
TZOFFSETTO:-0400
TZNAME:EDT
DTSTART:20240310T070000
END:DAYLIGHT
BEGIN:STANDARD
TZOFFSETFROM:-0400
TZOFFSETTO:-0500
TZNAME:EST
DTSTART:20241103T060000
END:STANDARD
BEGIN:DAYLIGHT
TZOFFSETFROM:-0500
TZOFFSETTO:-0400
TZNAME:EDT
DTSTART:20250309T070000
END:DAYLIGHT
BEGIN:STANDARD
TZOFFSETFROM:-0400
TZOFFSETTO:-0500
TZNAME:EST
DTSTART:20251102T060000
END:STANDARD
BEGIN:DAYLIGHT
TZOFFSETFROM:-0500
TZOFFSETTO:-0400
TZNAME:EDT
DTSTART:20260308T070000
END:DAYLIGHT
BEGIN:STANDARD
TZOFFSETFROM:-0400
TZOFFSETTO:-0500
TZNAME:EST
DTSTART:20261101T060000
END:STANDARD
BEGIN:DAYLIGHT
TZOFFSETFROM:-0500
TZOFFSETTO:-0400
TZNAME:EDT
DTSTART:20270314T070000
END:DAYLIGHT
BEGIN:STANDARD
TZOFFSETFROM:-0400
TZOFFSETTO:-0500
TZNAME:EST
DTSTART:20271107T060000
END:STANDARD
END:VTIMEZONE
BEGIN:VEVENT
DTSTART;TZID=America/New_York:20241221T080000
DTEND;TZID=America/New_York:20250103T170000
DTSTAMP:20260421T123647
CREATED:20241030T222259Z
LAST-MODIFIED:20241210T032546Z
UID:5436-1734768000-1735923600@www.wayneballetschool.com
SUMMARY:Winter Break- Studio Closed
DESCRIPTION:There will be no classes Sat Dec 21st.  There will be classes Sat Jan 4th.
URL:https://www.wayneballetschool.com/event/winter-break-studio-closed-5/
LOCATION:PA
END:VEVENT
BEGIN:VEVENT
DTSTART;VALUE=DATE:20250125
DTEND;VALUE=DATE:20250126
DTSTAMP:20260421T123647
CREATED:20240903T221715Z
LAST-MODIFIED:20241121T034254Z
UID:5385-1737763200-1737849599@www.wayneballetschool.com
SUMMARY:Session 2 Ends
DESCRIPTION:
URL:https://www.wayneballetschool.com/event/session-2-ends-7/
LOCATION:PA
END:VEVENT
BEGIN:VEVENT
DTSTART;VALUE=DATE:20250126
DTEND;VALUE=DATE:20250127
DTSTAMP:20260421T123647
CREATED:20241121T034459Z
LAST-MODIFIED:20241121T034459Z
UID:5462-1737849600-1737935999@www.wayneballetschool.com
SUMMARY:Session 3 Begins
DESCRIPTION:
URL:https://www.wayneballetschool.com/event/session-3-begins-9/
LOCATION:PA
END:VEVENT
BEGIN:VEVENT
DTSTART;VALUE=DATE:20250329
DTEND;VALUE=DATE:20250330
DTSTAMP:20260421T123647
CREATED:20250322T195527Z
LAST-MODIFIED:20250322T195529Z
UID:5540-1743206400-1743292799@www.wayneballetschool.com
SUMMARY:Session 3 Ends
DESCRIPTION:
URL:https://www.wayneballetschool.com/event/session-3-ends-8/
LOCATION:PA
END:VEVENT
BEGIN:VEVENT
DTSTART;VALUE=DATE:20250330
DTEND;VALUE=DATE:20250331
DTSTAMP:20260421T123647
CREATED:20250322T195552Z
LAST-MODIFIED:20250322T195554Z
UID:5542-1743292800-1743379199@www.wayneballetschool.com
SUMMARY:Session 4 Begins
DESCRIPTION:
URL:https://www.wayneballetschool.com/event/session-4-begins-8/
LOCATION:PA
END:VEVENT
BEGIN:VEVENT
DTSTART;VALUE=DATE:20250414
DTEND;VALUE=DATE:20250421
DTSTAMP:20260421T123647
CREATED:20250226T221111Z
LAST-MODIFIED:20250226T221114Z
UID:5517-1744588800-1745193599@www.wayneballetschool.com
SUMMARY:Spring Break- No Classes
DESCRIPTION:
URL:https://www.wayneballetschool.com/event/spring-break-no-classes-2/
LOCATION:PA
END:VEVENT
BEGIN:VEVENT
DTSTART;VALUE=DATE:20250502
DTEND;VALUE=DATE:20250505
DTSTAMP:20260421T123647
CREATED:20250124T050631Z
LAST-MODIFIED:20250322T195739Z
UID:5489-1746144000-1746403199@www.wayneballetschool.com
SUMMARY:Spring Gala- Excerpts from Sleeping Beauty
DESCRIPTION:
URL:https://www.wayneballetschool.com/event/spring-gala/
LOCATION:Wayne Ballet Studios\, 335 W. Lancaster Ave\, Wayne\, PA\, 19087\, United States
END:VEVENT
BEGIN:VEVENT
DTSTART;VALUE=DATE:20250523
DTEND;VALUE=DATE:20250527
DTSTAMP:20260421T123647
CREATED:20221003T182511Z
LAST-MODIFIED:20250514T222340Z
UID:5107-1747958400-1748303999@www.wayneballetschool.com
SUMMARY:Memorial Day Weekend- Studio Closed
DESCRIPTION:
URL:https://www.wayneballetschool.com/event/memorial-day-weekend-studio-closed-3/
LOCATION:PA
END:VEVENT
BEGIN:VEVENT
DTSTART;VALUE=DATE:20250529
DTEND;VALUE=DATE:20250601
DTSTAMP:20260421T123647
CREATED:20250124T050722Z
LAST-MODIFIED:20250124T050724Z
UID:5491-1748476800-1748735999@www.wayneballetschool.com
SUMMARY:Showcase 2025
DESCRIPTION:
URL:https://www.wayneballetschool.com/event/showcase-2025/
LOCATION:Agnes Irwin School\, 275 S Ithan Ave\, Rosemont\, PA\, 19010\, United States
END:VEVENT
BEGIN:VEVENT
DTSTART;VALUE=DATE:20250607
DTEND;VALUE=DATE:20250608
DTSTAMP:20260421T123647
CREATED:20250322T195641Z
LAST-MODIFIED:20250322T195644Z
UID:5544-1749254400-1749340799@www.wayneballetschool.com
SUMMARY:Session 4 Ends/Last Day of Classes
DESCRIPTION:
URL:https://www.wayneballetschool.com/event/session-4-ends-last-day-of-classes-2/
LOCATION:PA
END:VEVENT
BEGIN:VEVENT
DTSTART;TZID=America/New_York:20250623T170000
DTEND;TZID=America/New_York:20250626T190000
DTSTAMP:20260421T123647
CREATED:20250226T232630Z
LAST-MODIFIED:20250226T232756Z
UID:5521-1750698000-1750964400@www.wayneballetschool.com
SUMMARY:Wicked Workshop (evening)
DESCRIPTION:– Wicked Workshop – Ages 13-18\, $225\n\n\n\n\n\n\n\n\n\n\n\n\n\n\n\n\n\n\n\n\nIt’s Wicked Week! Join us for a dance workshop focused on all things Wicked. Students will take class and learn choreography to the music of Wicked in the style of theater jazz. This workshop is the more challenging version of our daytime Wicked Week. Dancers and musical theater enthusiasts welcome 🙂\n\n\n\nregistrations: https://dancestudio-pro.com/online/wayneballet
URL:https://www.wayneballetschool.com/event/wicked-workshop-evening/
LOCATION:Wayne Ballet Studios\, 335 W. Lancaster Ave\, Wayne\, PA\, 19087\, United States
ATTACH;FMTTYPE=image/png:https://www.wayneballetschool.com/wp-content/uploads/2025/02/Summer-2025-marketing-short.png
END:VEVENT
BEGIN:VEVENT
DTSTART;TZID=America/New_York:20250624T090000
DTEND;TZID=America/New_York:20250626T120000
DTSTAMP:20260421T123647
CREATED:20250226T232437Z
LAST-MODIFIED:20250226T232741Z
UID:5519-1750755600-1750939200@www.wayneballetschool.com
SUMMARY:Ballerina Barbie Camp
DESCRIPTION:– Ballerina Barbie Camp – Ages 3-5\, $225\n\n\n\n\n\n\n\n\n\n\n\n\n\n\n\n\n\n\n\n\nIt’s all about Barbie! Join us for a 3 day dance and creative arts camp featuring everyone’s favorite doll. Students will take daily classes in ballet and tap along with Barbie-related crafts and a snack time break. Barbie dolls are welcome to come along for the fun! No experience necessary- this camp is a great intro to dance for pre-school to pre-k.\n\n\n\nregistrations: https://dancestudio-pro.com/online/wayneballet
URL:https://www.wayneballetschool.com/event/ballerina-barbie-camp/
LOCATION:Wayne Ballet Studios\, 335 W. Lancaster Ave\, Wayne\, PA\, 19087\, United States
ATTACH;FMTTYPE=image/png:https://www.wayneballetschool.com/wp-content/uploads/2025/02/Summer-2025-marketing-short.png
END:VEVENT
BEGIN:VEVENT
DTSTART;TZID=America/New_York:20250715T090000
DTEND;TZID=America/New_York:20250717T120000
DTSTAMP:20260421T123647
CREATED:20250226T233254Z
LAST-MODIFIED:20250226T234303Z
UID:5528-1752570000-1752753600@www.wayneballetschool.com
SUMMARY:Wicked Workshop (daytime)
DESCRIPTION:– Wicked Workshop -Ages 9-12\, $225\n\n\n\n\n\n\n\n\n\n\n\n\n\n\n\n\n\n\n\n\nIt’s Wicked Week! Join us for a dance workshop focused on all things Wicked. Students will take class and learn choreography to the music of Wicked in the style of theater jazz. This one’s sure to be a good time! Dancers and musical theater enthusiasts welcome 🙂\n\n\n\nregistrations: https://dancestudio-pro.com/online/wayneballet
URL:https://www.wayneballetschool.com/event/wicked-workshop-daytime/
LOCATION:Wayne Ballet Studios\, 335 W. Lancaster Ave\, Wayne\, PA\, 19087\, United States
ATTACH;FMTTYPE=image/png:https://www.wayneballetschool.com/wp-content/uploads/2025/02/Summer-2025-marketing-short.png
END:VEVENT
BEGIN:VEVENT
DTSTART;TZID=America/New_York:20250722T090000
DTEND;TZID=America/New_York:20250724T120000
DTSTAMP:20260421T123647
CREATED:20250226T233437Z
LAST-MODIFIED:20250226T234242Z
UID:5530-1753174800-1753358400@www.wayneballetschool.com
SUMMARY:Barbie Camp 2.0
DESCRIPTION:– Barbie Camp 2.0- Ages 5-8\, $225\n\n\n\n\n\n\n\n\n\n\n\n\n\n\n\n\n\n\n\n\nIt’s all about Barbie! Join us for a 3 day dance and creative arts camp featuring everyone’s favorite doll. Barbie Camp 2.0 is the more advanced version of our pre-k Barbie Camp. Students will take daily classes in ballet and tap or jazz along with Barbie-related activities and crafts. Barbie dolls are welcome to come along for the fun!\n\n\n\nregistrations: https://dancestudio-pro.com/online/wayneballet
URL:https://www.wayneballetschool.com/event/barbie-camp-2-0/
LOCATION:PA
ATTACH;FMTTYPE=image/png:https://www.wayneballetschool.com/wp-content/uploads/2025/02/Summer-2025-marketing-short.png
END:VEVENT
BEGIN:VEVENT
DTSTART;TZID=America/New_York:20250811T093000
DTEND;TZID=America/New_York:20250815T153000
DTSTAMP:20260421T123647
CREATED:20250226T233639Z
LAST-MODIFIED:20250226T234231Z
UID:5532-1754904600-1755271800@www.wayneballetschool.com
SUMMARY:Intermediate/Advanced Intensive
DESCRIPTION:– Int/Adv Intensive – Ages 12-18\, Levels 3X & up\, $700\n\n\n\n\n\n\n\n\n\n\n\n\n\n\n\n\n\n\n\n\nA week long intensive offering classes in ballet and pointe and other disciplines including modern\, jazz\, theater dance\, and hip-hop! Classes are taught by Wayne Ballet faculty along with special guest teachers and choreographers. Intensive week ends with an in-studio showing for parents where dancers perform choreography they have learned throughout the week.\n\n\n\nregistrations: https://dancestudio-pro.com/online/wayneballet
URL:https://www.wayneballetschool.com/event/inteermediate-advanced-intensive/
LOCATION:Wayne Ballet Studios\, 335 W. Lancaster Ave\, Wayne\, PA\, 19087\, United States
ATTACH;FMTTYPE=image/png:https://www.wayneballetschool.com/wp-content/uploads/2025/02/Summer-2025-marketing-short.png
END:VEVENT
BEGIN:VEVENT
DTSTART;TZID=America/New_York:20250818T093000
DTEND;TZID=America/New_York:20250822T133000
DTSTAMP:20260421T123647
CREATED:20250226T233958Z
LAST-MODIFIED:20250730T043343Z
UID:5534-1755509400-1755869400@www.wayneballetschool.com
SUMMARY:Beginner/Intermediate Intensive
DESCRIPTION:– Beg/Int Intensive – Ages 9-12\, Levels 1X-2X/3\, $500\n\n\n\n\n\n\n\n\n\n\n\n\n\n\n\n\n\n\n\n\nA week long intensive offering classes in ballet and other disciplines including modern\, jazz\, and theater dance! Classes are taught by Wayne Ballet faculty along with special guest teachers and choreographers. Intensive week ends with an in-studio showing for parents where dancers perform choreography they have learned throughout the week.\n\n\n\nregistrations: https://dancestudio-pro.com/online/wayneballet
URL:https://www.wayneballetschool.com/event/beginner-intermediate-intensive/
LOCATION:Wayne Ballet Studios\, 335 W. Lancaster Ave\, Wayne\, PA\, 19087\, United States
ATTACH;FMTTYPE=image/png:https://www.wayneballetschool.com/wp-content/uploads/2025/02/Summer-2025-marketing-short.png
END:VEVENT
BEGIN:VEVENT
DTSTART;VALUE=DATE:20250902
DTEND;VALUE=DATE:20250903
DTSTAMP:20260421T123648
CREATED:20250929T010544Z
LAST-MODIFIED:20250929T010546Z
UID:5609-1756771200-1756857599@www.wayneballetschool.com
SUMMARY:Session 1 Begins
DESCRIPTION:
URL:https://www.wayneballetschool.com/event/session-1-begins-9/
LOCATION:PA
END:VEVENT
BEGIN:VEVENT
DTSTART;VALUE=DATE:20251101
DTEND;VALUE=DATE:20251102
DTSTAMP:20260421T123648
CREATED:20250929T010736Z
LAST-MODIFIED:20250929T010738Z
UID:5612-1761955200-1762041599@www.wayneballetschool.com
SUMMARY:Session 1 Ends
DESCRIPTION:
URL:https://www.wayneballetschool.com/event/session-1-ends-9/
LOCATION:PA
END:VEVENT
BEGIN:VEVENT
DTSTART;VALUE=DATE:20251102
DTEND;VALUE=DATE:20251103
DTSTAMP:20260421T123648
CREATED:20250929T010915Z
LAST-MODIFIED:20250929T010917Z
UID:5614-1762041600-1762127999@www.wayneballetschool.com
SUMMARY:Session 2 Begins
DESCRIPTION:
URL:https://www.wayneballetschool.com/event/session-2-begins-9/
LOCATION:PA
END:VEVENT
BEGIN:VEVENT
DTSTART;VALUE=DATE:20251126
DTEND;VALUE=DATE:20251201
DTSTAMP:20260421T123648
CREATED:20250929T013709Z
LAST-MODIFIED:20250929T013711Z
UID:5635-1764115200-1764547199@www.wayneballetschool.com
SUMMARY:Thanksgiving Break- Studio Closed
DESCRIPTION:
URL:https://www.wayneballetschool.com/event/thanksgiving-break-studio-closed-6/
LOCATION:PA
END:VEVENT
BEGIN:VEVENT
DTSTART;TZID=America/New_York:20251212T080000
DTEND;TZID=America/New_York:20251214T170000
DTSTAMP:20260421T123648
CREATED:20250929T011851Z
LAST-MODIFIED:20250929T011853Z
UID:5626-1765526400-1765731600@www.wayneballetschool.com
SUMMARY:Nutcracker Performances
DESCRIPTION:
URL:https://www.wayneballetschool.com/event/nutcracker-performances-5/
LOCATION:Agnes Irwin School\, 275 S Ithan Ave\, Rosemont\, PA\, 19010\, United States
END:VEVENT
BEGIN:VEVENT
DTSTART;VALUE=DATE:20251221
DTEND;VALUE=DATE:20260104
DTSTAMP:20260421T123648
CREATED:20250929T012402Z
LAST-MODIFIED:20250929T012720Z
UID:5630-1766275200-1767484799@www.wayneballetschool.com
SUMMARY:Winter Break- Studio Closed
DESCRIPTION:
URL:https://www.wayneballetschool.com/event/winter-break-3/
LOCATION:PA
END:VEVENT
BEGIN:VEVENT
DTSTART;VALUE=DATE:20260119
DTEND;VALUE=DATE:20260120
DTSTAMP:20260421T123648
CREATED:20260118T031124Z
LAST-MODIFIED:20260118T031126Z
UID:5998-1768780800-1768867199@www.wayneballetschool.com
SUMMARY:MLK Day- studio closed
DESCRIPTION:
URL:https://www.wayneballetschool.com/event/mlk-day-studio-closed-5/
LOCATION:PA
END:VEVENT
BEGIN:VEVENT
DTSTART;VALUE=DATE:20260124
DTEND;VALUE=DATE:20260125
DTSTAMP:20260421T123648
CREATED:20250929T011022Z
LAST-MODIFIED:20250929T011024Z
UID:5616-1769212800-1769299199@www.wayneballetschool.com
SUMMARY:Session 2 Ends
DESCRIPTION:
URL:https://www.wayneballetschool.com/event/session-2-ends-8/
LOCATION:PA
END:VEVENT
BEGIN:VEVENT
DTSTART;VALUE=DATE:20260125
DTEND;VALUE=DATE:20260126
DTSTAMP:20260421T123648
CREATED:20250929T011137Z
LAST-MODIFIED:20250929T011139Z
UID:5618-1769299200-1769385599@www.wayneballetschool.com
SUMMARY:Session 3 Begins
DESCRIPTION:
URL:https://www.wayneballetschool.com/event/session-3-begins-10/
LOCATION:PA
END:VEVENT
BEGIN:VEVENT
DTSTART;VALUE=DATE:20260328
DTEND;VALUE=DATE:20260329
DTSTAMP:20260421T123648
CREATED:20250929T011455Z
LAST-MODIFIED:20260313T204046Z
UID:5620-1774656000-1774742399@www.wayneballetschool.com
SUMMARY:Session 3 Ends
DESCRIPTION:
URL:https://www.wayneballetschool.com/event/session-3-ends-9/
LOCATION:PA
END:VEVENT
BEGIN:VEVENT
DTSTART;VALUE=DATE:20260329
DTEND;VALUE=DATE:20260330
DTSTAMP:20260421T123648
CREATED:20250929T011520Z
LAST-MODIFIED:20260313T204104Z
UID:5622-1774742400-1774828799@www.wayneballetschool.com
SUMMARY:Session 4 Begins
DESCRIPTION:
URL:https://www.wayneballetschool.com/event/session-4-begins-9/
LOCATION:PA
END:VEVENT
BEGIN:VEVENT
DTSTART;VALUE=DATE:20260329
DTEND;VALUE=DATE:20260405
DTSTAMP:20260421T123648
CREATED:20250929T012950Z
LAST-MODIFIED:20250929T012952Z
UID:5633-1774742400-1775347199@www.wayneballetschool.com
SUMMARY:Spring Break- Studio closed
DESCRIPTION:
URL:https://www.wayneballetschool.com/event/spring-break-studio-closed-6/
LOCATION:PA
END:VEVENT
BEGIN:VEVENT
DTSTART;TZID=America/New_York:20260507T163000
DTEND;TZID=America/New_York:20260510T160000
DTSTAMP:20260421T123648
CREATED:20260313T205031Z
LAST-MODIFIED:20260313T205035Z
UID:6002-1778171400-1778428800@www.wayneballetschool.com
SUMMARY:A Midsummer Night's Dream Performances
DESCRIPTION:Wayne Ballet Theatre presesnts our Spring Ballet performances of A Midsummer Night’s Dream at Hedgerow Theatre in Rose Valley. Performances will be May 8th\, 9th\, 10th with dress rehearsal May 7th. Sunday’s matinee will culminate in a special Mother’s Day reception on the grounds at Hedgerow.
URL:https://www.wayneballetschool.com/event/a-midsummer-nights-dream-performances/
LOCATION:Hedgerow Theatre\, 64 Rose Valley Rd\, Media\, PA\, 19063
END:VEVENT
BEGIN:VEVENT
DTSTART;VALUE=DATE:20260613
DTEND;VALUE=DATE:20260614
DTSTAMP:20260421T123648
CREATED:20250929T011641Z
LAST-MODIFIED:20250929T011643Z
UID:5624-1781308800-1781395199@www.wayneballetschool.com
SUMMARY:Session 4 Ends
DESCRIPTION:
URL:https://www.wayneballetschool.com/event/session-4-ends-6/
LOCATION:PA
END:VEVENT
END:VCALENDAR