BEGIN:VCALENDAR
VERSION:2.0
PRODID:-//Wayne Ballet &amp; Center for Dance Arts - ECPv6.15.17.1//NONSGML v1.0//EN
CALSCALE:GREGORIAN
METHOD:PUBLISH
X-WR-CALNAME:Wayne Ballet &amp; Center for Dance Arts
X-ORIGINAL-URL:https://www.wayneballetschool.com
X-WR-CALDESC:Events for Wayne Ballet &amp; Center for Dance Arts
REFRESH-INTERVAL;VALUE=DURATION:PT1H
X-Robots-Tag:noindex
X-PUBLISHED-TTL:PT1H
BEGIN:VTIMEZONE
TZID:America/New_York
BEGIN:DAYLIGHT
TZOFFSETFROM:-0500
TZOFFSETTO:-0400
TZNAME:EDT
DTSTART:20170312T070000
END:DAYLIGHT
BEGIN:STANDARD
TZOFFSETFROM:-0400
TZOFFSETTO:-0500
TZNAME:EST
DTSTART:20171105T060000
END:STANDARD
BEGIN:DAYLIGHT
TZOFFSETFROM:-0500
TZOFFSETTO:-0400
TZNAME:EDT
DTSTART:20180311T070000
END:DAYLIGHT
BEGIN:STANDARD
TZOFFSETFROM:-0400
TZOFFSETTO:-0500
TZNAME:EST
DTSTART:20181104T060000
END:STANDARD
BEGIN:DAYLIGHT
TZOFFSETFROM:-0500
TZOFFSETTO:-0400
TZNAME:EDT
DTSTART:20190310T070000
END:DAYLIGHT
BEGIN:STANDARD
TZOFFSETFROM:-0400
TZOFFSETTO:-0500
TZNAME:EST
DTSTART:20191103T060000
END:STANDARD
BEGIN:DAYLIGHT
TZOFFSETFROM:-0500
TZOFFSETTO:-0400
TZNAME:EDT
DTSTART:20200308T070000
END:DAYLIGHT
BEGIN:STANDARD
TZOFFSETFROM:-0400
TZOFFSETTO:-0500
TZNAME:EST
DTSTART:20201101T060000
END:STANDARD
END:VTIMEZONE
BEGIN:VEVENT
DTSTART;VALUE=DATE:20191031
DTEND;VALUE=DATE:20191101
DTSTAMP:20260422T072350
CREATED:20191028T175813Z
LAST-MODIFIED:20191028T175814Z
UID:4344-1572480000-1572566399@www.wayneballetschool.com
SUMMARY:Halloween- Studio Closed!
DESCRIPTION:On Halloween the studio will be closed for all classes after 12:00PM.  There will still be morning Adult Theater Dance 10:30AM-12:00PM that day!
URL:https://www.wayneballetschool.com/event/halloween-studio-closed/
LOCATION:PA
END:VEVENT
BEGIN:VEVENT
DTSTART;VALUE=DATE:20191021
DTEND;VALUE=DATE:20191022
DTSTAMP:20260422T072350
CREATED:20190829T013612Z
LAST-MODIFIED:20190829T013613Z
UID:4190-1571616000-1571702399@www.wayneballetschool.com
SUMMARY:Session 2 Tuition Due
DESCRIPTION:
URL:https://www.wayneballetschool.com/event/session-2-tuition-due-2/
LOCATION:PA
END:VEVENT
BEGIN:VEVENT
DTSTART;TZID=America/New_York:20190921T150000
DTEND;TZID=America/New_York:20190921T180000
DTSTAMP:20260422T072350
CREATED:20190829T004218Z
LAST-MODIFIED:20190916T210320Z
UID:4170-1569078000-1569088800@www.wayneballetschool.com
SUMMARY:Nutcracker Auditions
DESCRIPTION:NUTCRACKER AUDITIONS!  \nNutcracker Auditions are scheduled for Friday\, September 20th & Saturday\, September 21st\, 2019.  Dancers are assigned time slots for auditions by level.  Please arrive 5 minutes early to sign in and receive a number.  Regular class attire should be worn for auditions (please no warm ups or loose fitting clothing).  Students must be attending the required number of ballet classes per week for their level to be considered.  Remember Nutcracker is an additional commitment!! Students will be expected to attend Saturday afternoon/evening rehearsals (and Friday for advanced dancers) in addition to their regular weekly classes.  Performances will be the weekend of December 14th! \nAUDITION SCHEDULE \nFriday 9/20/19 \n5:30- 7:00PM    Ballet 4\, Ballet 4X\, and Ballet 5 \nSaturday 9/21/19 \n3:00- 3:30PM    Ballet 1\, Ballet 1X\, and Ballet 1X/2 \n3:30- 4:00PM    Ballet 2 & Ballet 2/2X \n4:00- 4:45PM    Ballet 2X\, 2X/3\, and Ballet 3 \n4:45- 5:30PM    Ballet 3\, Ballet 3X\, and Ballet 3X/4 \nDancers in Pre-Ballet & Elementary Ballet are also invited to participate in our Nutcracker Performances!  A sign-up sheet is available in the front lobby for those interested (there is no audition for Pre & Elem students).
URL:https://www.wayneballetschool.com/event/nutcracker-auditions-2/
LOCATION:PA
ATTACH;FMTTYPE=image/jpeg:https://www.wayneballetschool.com/wp-content/uploads/2019/08/WBCDA-Nutcracker-2018-Sweets-292.jpg
END:VEVENT
BEGIN:VEVENT
DTSTART;TZID=America/New_York:20190920T183000
DTEND;TZID=America/New_York:20190920T203000
DTSTAMP:20260422T072350
CREATED:20190829T004038Z
LAST-MODIFIED:20190916T205839Z
UID:4168-1569004200-1569011400@www.wayneballetschool.com
SUMMARY:Nutcracker Auditions
DESCRIPTION:NUTCRACKER AUDITIONS!  \nNutcracker Auditions are scheduled for Friday\, September 20th & Saturday\, September 21st\, 2019.  Dancers are assigned time slots for auditions by level.  Please arrive 5 minutes early to sign in and receive a number.  Regular class attire should be worn for auditions (please no warm ups or loose fitting clothing).  Students must be attending the required number of ballet classes per week for their level to be considered.  Remember Nutcracker is an additional commitment!! Students will be expected to attend Saturday afternoon/evening rehearsals (and Friday for advanced dancers) in addition to their regular weekly classes.  Performances will be the weekend of December 14th! \nAUDITION SCHEDULE \nFriday 9/20/19 \n5:30- 7:00PM    Ballet 4\, Ballet 4X\, and Ballet 5 \nSaturday 9/21/19 \n3:00- 3:30PM    Ballet 1\, Ballet 1X\, and Ballet 1X/2 \n3:30- 4:00PM    Ballet 2 & Ballet 2/2X \n4:00- 4:45PM    Ballet 2X\, 2X/3\, and Ballet 3 \n4:45- 5:30PM    Ballet 3\, Ballet 3X\, and Ballet 3X/4 \nDancers in Pre-Ballet & Elementary Ballet are also invited to participate in our Nutcracker Performances!  A sign-up sheet is available in the front lobby for those interested (there is no audition for Pre & Elem students).
URL:https://www.wayneballetschool.com/event/nutcracker-auditions/
LOCATION:Wayne Ballet Studios\, 335 W. Lancaster Ave\, Wayne\, PA\, 19087\, United States
ATTACH;FMTTYPE=image/jpeg:https://www.wayneballetschool.com/wp-content/uploads/2019/08/WBCDA-Nutcracker-2018-Sweets-292.jpg
END:VEVENT
BEGIN:VEVENT
DTSTART;VALUE=DATE:20190903
DTEND;VALUE=DATE:20190904
DTSTAMP:20260422T072350
CREATED:20190829T013454Z
LAST-MODIFIED:20190829T013455Z
UID:4188-1567468800-1567555199@www.wayneballetschool.com
SUMMARY:Session 1 Payment Due
DESCRIPTION:
URL:https://www.wayneballetschool.com/event/session-1-payment-due/
LOCATION:PA
END:VEVENT
BEGIN:VEVENT
DTSTART;VALUE=DATE:20190903
DTEND;VALUE=DATE:20190904
DTSTAMP:20260422T072350
CREATED:20190829T012503Z
LAST-MODIFIED:20190829T012503Z
UID:4172-1567468800-1567555199@www.wayneballetschool.com
SUMMARY:Session 1 Begins
DESCRIPTION:
URL:https://www.wayneballetschool.com/event/session-1-begins-5/
LOCATION:PA
END:VEVENT
BEGIN:VEVENT
DTSTART;TZID=America/New_York:20190819T090000
DTEND;TZID=America/New_York:20190823T150000
DTSTAMP:20260422T072350
CREATED:20190209T181200Z
LAST-MODIFIED:20190209T181200Z
UID:3991-1566205200-1566572400@www.wayneballetschool.com
SUMMARY:Advanced Summer Intensive Week 2
DESCRIPTION:
URL:https://www.wayneballetschool.com/event/advanced-summer-intensive-week-2/
LOCATION:Wayne Ballet Studios\, 335 W. Lancaster Ave\, Wayne\, PA\, 19087\, United States
END:VEVENT
BEGIN:VEVENT
DTSTART;TZID=America/New_York:20190812T090000
DTEND;TZID=America/New_York:20190816T150000
DTSTAMP:20260422T072350
CREATED:20190209T181125Z
LAST-MODIFIED:20190209T181125Z
UID:3989-1565600400-1565967600@www.wayneballetschool.com
SUMMARY:Advanced Summer Intensive Week 1
DESCRIPTION:
URL:https://www.wayneballetschool.com/event/advanced-summer-intensive-week-1/
LOCATION:Wayne Ballet Studios\, 335 W. Lancaster Ave\, Wayne\, PA\, 19087\, United States
END:VEVENT
BEGIN:VEVENT
DTSTART;TZID=America/New_York:20190812T090000
DTEND;TZID=America/New_York:20190816T130000
DTSTAMP:20260422T072350
CREATED:20190209T181044Z
LAST-MODIFIED:20190209T181045Z
UID:3987-1565600400-1565960400@www.wayneballetschool.com
SUMMARY:Beginner Summer Intensive
DESCRIPTION:Levels 1X through 2X
URL:https://www.wayneballetschool.com/event/beginner-summer-intensive/
LOCATION:Wayne Ballet Studios\, 335 W. Lancaster Ave\, Wayne\, PA\, 19087\, United States
END:VEVENT
BEGIN:VEVENT
DTSTART;TZID=America/New_York:20190708T160000
DTEND;TZID=America/New_York:20190809T210000
DTSTAMP:20260422T072350
CREATED:20190209T180929Z
LAST-MODIFIED:20190209T180929Z
UID:3985-1562601600-1565384400@www.wayneballetschool.com
SUMMARY:Summer Mini-Session
DESCRIPTION:
URL:https://www.wayneballetschool.com/event/summer-mini-session-3/
LOCATION:Wayne Ballet Studios\, 335 W. Lancaster Ave\, Wayne\, PA\, 19087\, United States
END:VEVENT
BEGIN:VEVENT
DTSTART;TZID=America/New_York:20190624T090000
DTEND;TZID=America/New_York:20190628T120000
DTSTAMP:20260422T072350
CREATED:20190209T180826Z
LAST-MODIFIED:20190209T180826Z
UID:3983-1561366800-1561723200@www.wayneballetschool.com
SUMMARY:Princess/Prince Camp Week 2
DESCRIPTION:
URL:https://www.wayneballetschool.com/event/princess-prince-camp-week-2/
LOCATION:Wayne Ballet Studios\, 335 W. Lancaster Ave\, Wayne\, PA\, 19087\, United States
END:VEVENT
BEGIN:VEVENT
DTSTART;TZID=America/New_York:20190617T090000
DTEND;TZID=America/New_York:20190621T120000
DTSTAMP:20260422T072350
CREATED:20190209T180742Z
LAST-MODIFIED:20190209T180743Z
UID:3981-1560762000-1561118400@www.wayneballetschool.com
SUMMARY:Princess/Prince Camp Week 1
DESCRIPTION:
URL:https://www.wayneballetschool.com/event/princess-prince-camp-week-1/
LOCATION:Wayne Ballet Studios\, 335 W. Lancaster Ave\, Wayne\, PA\, 19087\, United States
END:VEVENT
BEGIN:VEVENT
DTSTART;TZID=America/New_York:20190609T113000
DTEND;TZID=America/New_York:20190609T170000
DTSTAMP:20260422T072350
CREATED:20190209T181406Z
LAST-MODIFIED:20190209T181406Z
UID:3995-1560079800-1560099600@www.wayneballetschool.com
SUMMARY:June Showcase 2019 Performances
DESCRIPTION:
URL:https://www.wayneballetschool.com/event/june-showcase-2019-performances/
LOCATION:Agnes Irwin School\, 275 S Ithan Ave\, Rosemont\, PA\, 19010\, United States
END:VEVENT
BEGIN:VEVENT
DTSTART;TZID=America/New_York:20190608T090000
DTEND;TZID=America/New_York:20190608T170000
DTSTAMP:20260422T072350
CREATED:20190209T181314Z
LAST-MODIFIED:20190209T181314Z
UID:3993-1559984400-1560013200@www.wayneballetschool.com
SUMMARY:June Showcase 2019 Dress Rehearsal
DESCRIPTION:
URL:https://www.wayneballetschool.com/event/june-showcase-2019-dress-rehearsal/
LOCATION:Agnes Irwin School\, 275 S Ithan Ave\, Rosemont\, PA\, 19010\, United States
END:VEVENT
BEGIN:VEVENT
DTSTART;VALUE=DATE:20190525
DTEND;VALUE=DATE:20190528
DTSTAMP:20260422T072350
CREATED:20190406T184053Z
LAST-MODIFIED:20190408T225817Z
UID:4085-1558742400-1559001599@www.wayneballetschool.com
SUMMARY:Memorial Day Weekend- Studio Closed
DESCRIPTION:Wayne Ballet Studios will be closed in observance of Memorial Day weekend from Saturday May 28th through Monday May 30th.  There will be no classes held during this time.  Regular classes will resume on Tuesday May 31st.
URL:https://www.wayneballetschool.com/event/memorial-day-studio-closed-4/
LOCATION:PA
END:VEVENT
BEGIN:VEVENT
DTSTART;VALUE=DATE:20190511
DTEND;VALUE=DATE:20190513
DTSTAMP:20260422T072350
CREATED:20190209T180548Z
LAST-MODIFIED:20190209T181522Z
UID:3978-1557532800-1557705599@www.wayneballetschool.com
SUMMARY:Peter Pan Performances
DESCRIPTION:
URL:https://www.wayneballetschool.com/event/peter-pan-performances/
LOCATION:Agnes Irwin School\, 275 S Ithan Ave\, Rosemont\, PA\, 19010\, United States
END:VEVENT
BEGIN:VEVENT
DTSTART;TZID=America/New_York:20190510T160000
DTEND;TZID=America/New_York:20190510T210000
DTSTAMP:20260422T072350
CREATED:20190209T180524Z
LAST-MODIFIED:20190209T181542Z
UID:3976-1557504000-1557522000@www.wayneballetschool.com
SUMMARY:Peter Pan Dress Rehearsal
DESCRIPTION:
URL:https://www.wayneballetschool.com/event/peter-pan-dress-rehearsal/
LOCATION:Agnes Irwin School\, 275 S Ithan Ave\, Rosemont\, PA\, 19010\, United States
END:VEVENT
BEGIN:VEVENT
DTSTART;VALUE=DATE:20190415
DTEND;VALUE=DATE:20190422
DTSTAMP:20260422T072350
CREATED:20190112T225556Z
LAST-MODIFIED:20190112T225557Z
UID:2196-1555286400-1555891199@www.wayneballetschool.com
SUMMARY:Spring Break- Studio Closed!!
DESCRIPTION:
URL:https://www.wayneballetschool.com/event/spring-break-studio-closed-4/
LOCATION:PA
END:VEVENT
BEGIN:VEVENT
DTSTART;TZID=America/New_York:20190401T080000
DTEND;TZID=America/New_York:20190401T170000
DTSTAMP:20260422T072350
CREATED:20180731T211056Z
LAST-MODIFIED:20180731T211056Z
UID:1865-1554105600-1554138000@www.wayneballetschool.com
SUMMARY:Session 4 Begins
DESCRIPTION:
URL:https://www.wayneballetschool.com/event/session-4-begins-4/
LOCATION:PA
END:VEVENT
BEGIN:VEVENT
DTSTART;VALUE=DATE:20190318
DTEND;VALUE=DATE:20190319
DTSTAMP:20260422T072350
CREATED:20180829T150856Z
LAST-MODIFIED:20180829T150856Z
UID:1905-1552867200-1552953599@www.wayneballetschool.com
SUMMARY:Session 4 Tuition Due
DESCRIPTION:
URL:https://www.wayneballetschool.com/event/session-4-tuition-due/
LOCATION:PA
END:VEVENT
BEGIN:VEVENT
DTSTART;TZID=America/New_York:20190209T080000
DTEND;TZID=America/New_York:20190209T170000
DTSTAMP:20260422T072350
CREATED:20190209T180422Z
LAST-MODIFIED:20190209T180423Z
UID:3974-1549699200-1549731600@www.wayneballetschool.com
SUMMARY:President's Day- Studio OPEN!!
DESCRIPTION:We will hold all regular classes on President’s Day!
URL:https://www.wayneballetschool.com/event/presidents-day-studio-open/
LOCATION:PA
END:VEVENT
BEGIN:VEVENT
DTSTART;TZID=America/New_York:20190125T180000
DTEND;TZID=America/New_York:20190126T173000
DTSTAMP:20260422T072350
CREATED:20190112T230835Z
LAST-MODIFIED:20190112T230835Z
UID:2198-1548439200-1548523800@www.wayneballetschool.com
SUMMARY:Spring Ballet Auditions
DESCRIPTION:Peter Pan Auditions are scheduled for Friday\, January 25th\, 2019 and Saturday\, January 26th\, 2019. Dancers should come during their respective time slots for auditions. Please arrive 5 minutes early to sign in and receive a number. Regular class attire should be worn for auditions (please no warm ups or loose fitting clothing). Remember that the Spring Ballet is an additional commitment!! Students will be expected to attend Saturday afternoon/evening rehearsals (and Friday for advanced dancers) in addition to their regular weekly classes. Performances will be the weekend of May 10th. \nAudition Schedule  \nFriday\, January 25th\, 2019 \n6:00- 7:15  Ballet 4 & Ballet 5 \nSaturday\, January 26th\, 2019 \n\n\n\n\n3:30- 4:00  Ballet 1 \n4:00- 4:45  Ballet 1X & Ballet 2 \n4:45- 5:30  Ballet 2X/3 & Ballet 3 & Ballet 3X
URL:https://www.wayneballetschool.com/event/spring-ballet-auditions/
LOCATION:PA
END:VEVENT
BEGIN:VEVENT
DTSTART;VALUE=DATE:20190121
DTEND;VALUE=DATE:20190122
DTSTAMP:20260422T072350
CREATED:20190112T224926Z
LAST-MODIFIED:20190112T225613Z
UID:2194-1548028800-1548115199@www.wayneballetschool.com
SUMMARY:MLK Day- Studio Closed!
DESCRIPTION:
URL:https://www.wayneballetschool.com/event/mlk-day-studio-closed/
LOCATION:PA
END:VEVENT
BEGIN:VEVENT
DTSTART;VALUE=DATE:20190121
DTEND;VALUE=DATE:20190122
DTSTAMP:20260422T072350
CREATED:20180731T211031Z
LAST-MODIFIED:20180731T211032Z
UID:1863-1548028800-1548115199@www.wayneballetschool.com
SUMMARY:Session 3 Begins
DESCRIPTION:
URL:https://www.wayneballetschool.com/event/session-3-begins-3/
LOCATION:PA
END:VEVENT
BEGIN:VEVENT
DTSTART;VALUE=DATE:20190107
DTEND;VALUE=DATE:20190108
DTSTAMP:20260422T072350
CREATED:20180829T150817Z
LAST-MODIFIED:20180829T150909Z
UID:1903-1546819200-1546905599@www.wayneballetschool.com
SUMMARY:Session 3 Tuition Due
DESCRIPTION:
URL:https://www.wayneballetschool.com/event/session-3-tuition-due/
LOCATION:PA
END:VEVENT
BEGIN:VEVENT
DTSTART;VALUE=DATE:20181224
DTEND;VALUE=DATE:20190107
DTSTAMP:20260422T072350
CREATED:20181010T215251Z
LAST-MODIFIED:20181010T215308Z
UID:1952-1545609600-1546819199@www.wayneballetschool.com
SUMMARY:Winter Break- Studio Closed
DESCRIPTION:
URL:https://www.wayneballetschool.com/event/winter-break/
LOCATION:PA
END:VEVENT
BEGIN:VEVENT
DTSTART;TZID=America/New_York:20181221T160000
DTEND;TZID=America/New_York:20181223T170000
DTSTAMP:20260422T072350
CREATED:20180829T151121Z
LAST-MODIFIED:20180829T151325Z
UID:1907-1545408000-1545584400@www.wayneballetschool.com
SUMMARY:Nutcracker Performances
DESCRIPTION:WBT’s annual Nutcracker Performances at Upper Merion High School in KOP \nPerformance Dates & Times TBD
URL:https://www.wayneballetschool.com/event/nutcracker-performances-2/
LOCATION:PA
ATTACH;FMTTYPE=image/jpeg:https://www.wayneballetschool.com/wp-content/uploads/2017/01/Nutcracker-2016-Party-WBCDA-144.jpg
END:VEVENT
BEGIN:VEVENT
DTSTART;VALUE=DATE:20181122
DTEND;VALUE=DATE:20181126
DTSTAMP:20260422T072350
CREATED:20181010T215402Z
LAST-MODIFIED:20181010T215402Z
UID:1955-1542844800-1543190399@www.wayneballetschool.com
SUMMARY:Thanksgiving Break- Studio Closed
DESCRIPTION:
URL:https://www.wayneballetschool.com/event/thanksgiving-break-studio-closed-2/
LOCATION:PA
END:VEVENT
BEGIN:VEVENT
DTSTART;VALUE=DATE:20181105
DTEND;VALUE=DATE:20181106
DTSTAMP:20260422T072350
CREATED:20180731T211009Z
LAST-MODIFIED:20180731T211009Z
UID:1861-1541376000-1541462399@www.wayneballetschool.com
SUMMARY:Session 2 Begins
DESCRIPTION:
URL:https://www.wayneballetschool.com/event/session-2-begins-4/
LOCATION:PA
END:VEVENT
BEGIN:VEVENT
DTSTART;VALUE=DATE:20181031
DTEND;VALUE=DATE:20181101
DTSTAMP:20260422T072350
CREATED:20181031T191838Z
LAST-MODIFIED:20181031T191838Z
UID:2161-1540944000-1541030399@www.wayneballetschool.com
SUMMARY:Halloween- Studio Open
DESCRIPTION:
URL:https://www.wayneballetschool.com/event/halloween-studio-open/
LOCATION:PA
END:VEVENT
END:VCALENDAR