BEGIN:VCALENDAR
VERSION:2.0
PRODID:-//Wayne Ballet &amp; Center for Dance Arts - ECPv6.15.17.1//NONSGML v1.0//EN
CALSCALE:GREGORIAN
METHOD:PUBLISH
X-WR-CALNAME:Wayne Ballet &amp; Center for Dance Arts
X-ORIGINAL-URL:https://www.wayneballetschool.com
X-WR-CALDESC:Events for Wayne Ballet &amp; Center for Dance Arts
REFRESH-INTERVAL;VALUE=DURATION:PT1H
X-Robots-Tag:noindex
X-PUBLISHED-TTL:PT1H
BEGIN:VTIMEZONE
TZID:America/New_York
BEGIN:DAYLIGHT
TZOFFSETFROM:-0500
TZOFFSETTO:-0400
TZNAME:EDT
DTSTART:20160313T070000
END:DAYLIGHT
BEGIN:STANDARD
TZOFFSETFROM:-0400
TZOFFSETTO:-0500
TZNAME:EST
DTSTART:20161106T060000
END:STANDARD
BEGIN:DAYLIGHT
TZOFFSETFROM:-0500
TZOFFSETTO:-0400
TZNAME:EDT
DTSTART:20170312T070000
END:DAYLIGHT
BEGIN:STANDARD
TZOFFSETFROM:-0400
TZOFFSETTO:-0500
TZNAME:EST
DTSTART:20171105T060000
END:STANDARD
BEGIN:DAYLIGHT
TZOFFSETFROM:-0500
TZOFFSETTO:-0400
TZNAME:EDT
DTSTART:20180311T070000
END:DAYLIGHT
BEGIN:STANDARD
TZOFFSETFROM:-0400
TZOFFSETTO:-0500
TZNAME:EST
DTSTART:20181104T060000
END:STANDARD
BEGIN:DAYLIGHT
TZOFFSETFROM:-0500
TZOFFSETTO:-0400
TZNAME:EDT
DTSTART:20190310T070000
END:DAYLIGHT
BEGIN:STANDARD
TZOFFSETFROM:-0400
TZOFFSETTO:-0500
TZNAME:EST
DTSTART:20191103T060000
END:STANDARD
END:VTIMEZONE
BEGIN:VEVENT
DTSTART;TZID=America/New_York:20180326T080000
DTEND;TZID=America/New_York:20180401T210000
DTSTAMP:20260422T183900
CREATED:20170918T223613Z
LAST-MODIFIED:20180320T225123Z
UID:1561-1522051200-1522616400@www.wayneballetschool.com
SUMMARY:Spring Break- Studio Closed
DESCRIPTION:
URL:https://www.wayneballetschool.com/event/spring-break-studio-closed-3/
END:VEVENT
BEGIN:VEVENT
DTSTART;TZID=America/New_York:20180224T180000
DTEND;TZID=America/New_York:20180224T210000
DTSTAMP:20260422T183900
CREATED:20180206T001153Z
LAST-MODIFIED:20180206T001153Z
UID:1691-1519495200-1519506000@www.wayneballetschool.com
SUMMARY:Grand Opening Gala
DESCRIPTION:
URL:https://www.wayneballetschool.com/event/grand-opening-gala-2/
LOCATION:Wayne Ballet Studios\, 335 W. Lancaster Ave\, Wayne\, PA\, 19087\, United States
END:VEVENT
BEGIN:VEVENT
DTSTART;TZID=America/New_York:20180223T180000
DTEND;TZID=America/New_York:20180223T210000
DTSTAMP:20260422T183900
CREATED:20180206T000924Z
LAST-MODIFIED:20180206T000924Z
UID:1688-1519408800-1519419600@www.wayneballetschool.com
SUMMARY:Grand Opening Gala
DESCRIPTION:
URL:https://www.wayneballetschool.com/event/grand-opening-gala/
LOCATION:Wayne Ballet Studios\, 335 W. Lancaster Ave\, Wayne\, PA\, 19087\, United States
END:VEVENT
BEGIN:VEVENT
DTSTART;VALUE=DATE:20180219
DTEND;VALUE=DATE:20180220
DTSTAMP:20260422T183900
CREATED:20180210T202603Z
LAST-MODIFIED:20180210T202604Z
UID:1702-1518998400-1519084799@www.wayneballetschool.com
SUMMARY:President's Day- Studio Closed
DESCRIPTION:
URL:https://www.wayneballetschool.com/event/presidents-day-studio-closed-2/
END:VEVENT
BEGIN:VEVENT
DTSTART;TZID=America/New_York:20180216T163000
DTEND;TZID=America/New_York:20180216T180000
DTSTAMP:20260422T183900
CREATED:20180206T003019Z
LAST-MODIFIED:20180206T003127Z
UID:1696-1518798600-1518804000@www.wayneballetschool.com
SUMMARY:Master Class with DoubleTake Dance
DESCRIPTION:
URL:https://www.wayneballetschool.com/event/master-class-with-doubletake-dance/
ATTACH;FMTTYPE=application/pdf:https://www.wayneballetschool.com/wp-content/uploads/2018/02/DTD-Master-Class-1.pdf
END:VEVENT
BEGIN:VEVENT
DTSTART;VALUE=DATE:20180124
DTEND;VALUE=DATE:20180125
DTSTAMP:20260422T183900
CREATED:20171024T181701Z
LAST-MODIFIED:20180112T012413Z
UID:1612-1516752000-1516838399@www.wayneballetschool.com
SUMMARY:Session 3 Begins
DESCRIPTION:
URL:https://www.wayneballetschool.com/event/session-3-begins-4/
END:VEVENT
BEGIN:VEVENT
DTSTART;VALUE=DATE:20180123
DTEND;VALUE=DATE:20180124
DTSTAMP:20260422T183900
CREATED:20171024T181607Z
LAST-MODIFIED:20180112T012345Z
UID:1608-1516665600-1516751999@www.wayneballetschool.com
SUMMARY:Session 2 Ends
DESCRIPTION:
URL:https://www.wayneballetschool.com/event/session-2-ends-3/
END:VEVENT
BEGIN:VEVENT
DTSTART;VALUE=DATE:20180115
DTEND;VALUE=DATE:20180116
DTSTAMP:20260422T183900
CREATED:20170918T223220Z
LAST-MODIFIED:20180112T012316Z
UID:1559-1515974400-1516060799@www.wayneballetschool.com
SUMMARY:Martin Luther King Day- Studio Open!
DESCRIPTION:Due to delays with the new studio opening\, we have decided to stay open for Martin Luther King day on Monday Jan 15th for all regularly scheduled classes.
URL:https://www.wayneballetschool.com/event/martin-luther-king-day-studio-closed-3/
END:VEVENT
BEGIN:VEVENT
DTSTART;VALUE=DATE:20171222
DTEND;VALUE=DATE:20180106
DTSTAMP:20260422T183900
CREATED:20170918T222833Z
LAST-MODIFIED:20171219T194019Z
UID:1557-1513900800-1515196799@www.wayneballetschool.com
SUMMARY:Winter Break- Studio Closed
DESCRIPTION:WBCDA will be closed for Winter Break from Friday\, December 22nd through Friday\, January 5th.  We expect to open Saturday\, January 6th with a full class schedule in our NEW BUILDING at 335 West Lancaster Ave!  An email will be sent confirming details during the week of Jan 2nd.
URL:https://www.wayneballetschool.com/event/winter-break-studio-closed-3/
END:VEVENT
BEGIN:VEVENT
DTSTART;VALUE=DATE:20171215
DTEND;VALUE=DATE:20171218
DTSTAMP:20260422T183900
CREATED:20170918T223833Z
LAST-MODIFIED:20170918T223839Z
UID:1565-1513296000-1513555199@www.wayneballetschool.com
SUMMARY:Nutcracker Performance Weekend
DESCRIPTION:Dress Rehearsal Friday evening\, 2 Saturday performances and 1 Sunday Performance.  Performance Times TBD
URL:https://www.wayneballetschool.com/event/nutcracker-performance-weekend/
LOCATION:Upper Merion Middle School\, 450 Keebler Road\, King of Prussia\, PA\, 19406\, United States
END:VEVENT
BEGIN:VEVENT
DTSTART;TZID=America/New_York:20171206T093000
DTEND;TZID=America/New_York:20171206T113000
DTSTAMP:20260422T183900
CREATED:20170919T210531Z
LAST-MODIFIED:20170919T210532Z
UID:1568-1512552600-1512559800@www.wayneballetschool.com
SUMMARY:Nutcracker Presentation at Tarleton Day School
DESCRIPTION:Advanced Students are asked to participate
URL:https://www.wayneballetschool.com/event/nutcracker-presentation-at-tarleton-day-school/
LOCATION:The Tarleton Day School\, 327 Waterloo Ave\, Berwyn\, PA\, United States
END:VEVENT
BEGIN:VEVENT
DTSTART;TZID=America/New_York:20171122T080000
DTEND;TZID=America/New_York:20171126T210000
DTSTAMP:20260422T183900
CREATED:20170918T222732Z
LAST-MODIFIED:20171114T032839Z
UID:1555-1511337600-1511730000@www.wayneballetschool.com
SUMMARY:Thanksgiving Break- Studio Closed
DESCRIPTION:
URL:https://www.wayneballetschool.com/event/thanksgiving-break-studio-closed/
END:VEVENT
BEGIN:VEVENT
DTSTART;TZID=America/New_York:20171119T110000
DTEND;TZID=America/New_York:20171119T180000
DTSTAMP:20260422T183900
CREATED:20171116T172105Z
LAST-MODIFIED:20171116T172111Z
UID:1651-1511089200-1511114400@www.wayneballetschool.com
SUMMARY:Classes\, Makeups & Nutcracker Rehearsals
DESCRIPTION:Sunday 11/19 \nSmall Studio\n11:00 – 11:45   Makeup class: Pre-School 1 & Pre School 2\n11:45 – 12:45   Makeup class: Pre-Ballet & Elementary Ballet\n12:45 – 1:45   Makeup class: Ballet 1/1X\n1:45 – 2:30   Angels Nutcracker Rehearsal\n2:30 – 5:00   Tap classes (as regularly scheduled) \nBig Studio\n2:00 – 2:30   Nutcracker Entrada\n2:30 – 4:00   Nutcracker Act 2\n4:00 – 6:00   Nutcracker Act 1 \n 
URL:https://www.wayneballetschool.com/event/classes-makeups-nutcracker-rehearsals/
END:VEVENT
BEGIN:VEVENT
DTSTART;TZID=America/New_York:20171116T080000
DTEND;TZID=America/New_York:20171118T163000
DTSTAMP:20260422T183900
CREATED:20171103T002509Z
LAST-MODIFIED:20171112T190253Z
UID:1635-1510819200-1511022600@www.wayneballetschool.com
SUMMARY:Studio Closed- Church Bazaar
DESCRIPTION:
URL:https://www.wayneballetschool.com/event/studio-closed-church-bazaar/
END:VEVENT
BEGIN:VEVENT
DTSTART;VALUE=DATE:20171107
DTEND;VALUE=DATE:20171108
DTSTAMP:20260422T183900
CREATED:20171103T002945Z
LAST-MODIFIED:20171105T023825Z
UID:1637-1510012800-1510099199@www.wayneballetschool.com
SUMMARY:Voting Day- Revised Schedule!
DESCRIPTION:St. Mary’s will be used as a voting site for the upcoming elections on Tuesday November 7th.  Due to this\, the large studio space will be blocked off all day and evening.   Wayne Ballet will still be holding all regularly scheduled classes that day\, but they will all take place in the small studio space.  Please follow the revised schedule below: \n1:00- 1:45  Pre-School 1 (in small studio\, no time change) \n1:45- 2:30  Pre-School 2 (in small studio\, no time change) \n4:30- 5:30  Ballet 1 (*time change) \n5:30- 7:30  Ballet 4X/5 (*time change & small studio).
URL:https://www.wayneballetschool.com/event/voting-day-revised-schedule/
END:VEVENT
BEGIN:VEVENT
DTSTART;VALUE=DATE:20171106
DTEND;VALUE=DATE:20171107
DTSTAMP:20260422T183900
CREATED:20171024T181547Z
LAST-MODIFIED:20171024T181547Z
UID:1606-1509926400-1510012799@www.wayneballetschool.com
SUMMARY:Session 2 Begins
DESCRIPTION:
URL:https://www.wayneballetschool.com/event/session-2-begins-3/
END:VEVENT
BEGIN:VEVENT
DTSTART;VALUE=DATE:20171105
DTEND;VALUE=DATE:20171106
DTSTAMP:20260422T183900
CREATED:20171024T181529Z
LAST-MODIFIED:20171024T181529Z
UID:1604-1509840000-1509926399@www.wayneballetschool.com
SUMMARY:Session 1 Ends
DESCRIPTION:
URL:https://www.wayneballetschool.com/event/session-1-ends-3/
END:VEVENT
BEGIN:VEVENT
DTSTART;TZID=America/New_York:20171101T160000
DTEND;TZID=America/New_York:20171101T210000
DTSTAMP:20260422T183900
CREATED:20171028T171047Z
LAST-MODIFIED:20171028T171047Z
UID:1632-1509552000-1509570000@www.wayneballetschool.com
SUMMARY:Church Event- Revised Class Schedule!
DESCRIPTION:Due to a church event\, Wayne Ballet will be following a revised schedule on Wednesday\, November 1st. All classes held in the smaller studio (with Miss Angie) will run as usual that evening. In the big studio please follow the below revised schedule: \n4:30- 6:00   Advanced Contemporary/Jazz (Mr. Tim)- Cancelled \n7:00- 8:00   Ballet 3/3X (Miss Valerie)- *Please note class will be shortened to 1 hour (7:00-8:00PM) please bring pointe shoes \n8:00- 9:00   Intermediate Jazz- class will run as scheduled \nStudents are welcome to schedule a make-up for classes that are cancelled or shortened that day.  Please contact WBCDA if you have questions on an appropriate make-up classes.
URL:https://www.wayneballetschool.com/event/church-event-revised-class-schedule/
END:VEVENT
BEGIN:VEVENT
DTSTART;TZID=America/New_York:20171031T150000
DTEND;TZID=America/New_York:20171031T210000
DTSTAMP:20260422T183900
CREATED:20171028T170919Z
LAST-MODIFIED:20171028T170919Z
UID:1630-1509462000-1509483600@www.wayneballetschool.com
SUMMARY:Halloween- No Evening Classes
DESCRIPTION:Happy Halloween everyone! \nOn Halloween\, Tuesday\, October 31st\, Wayne Ballet will be following a revised schedule.  All daytime Pre-School classes will take place as scheduled (1:00-2:30 Pre-School 1 and 2 with Ms Sarah)\, but the studio will be closed for all evening classes (Ballet 1 with Ms Valerie and Ballet 4X/5 with Ms Pat) so students can enjoy their evening trick or treating!  Parents are welcome to bring students to a make-up class- please contact us if you have questions on appropriate make-up classes. \n\nWe wish all of our dancers a fun and safe Halloween!\nWBCDA
URL:https://www.wayneballetschool.com/event/halloween-no-evening-classes/
END:VEVENT
BEGIN:VEVENT
DTSTART;TZID=America/New_York:20170911T080000
DTEND;TZID=America/New_York:20170911T170000
DTSTAMP:20260422T183900
CREATED:20170912T022001Z
LAST-MODIFIED:20170912T022001Z
UID:1550-1505116800-1505149200@www.wayneballetschool.com
SUMMARY:Nutcracker Auditions Ballet 1 through 3X
DESCRIPTION:Nutcracker Auditions are scheduled for Friday\, September 22nd & Saturday\, September 23rd\, 2017.  Dancers should come during their respective time slots for auditions.  Please arrive 5 minutes early to sign in and receive a number.  Regular class attire should be worn for auditions (please no warm ups or loose fitting clothing). Remember that Nutcracker is an additional commitment!! Students will be expected to attend Saturday afternoon/evening rehearsals (and Friday for advanced dancers) in addition to their regular weekly classes.  Performances will be the weekend of December 16th. \n  \nAUDITION SCHEDULE \n  \nFriday 9/22/17 \n5:30- 7:00PM    Ballet 4X/5 \n  \nSaturday 9/23/17 \n3:00- 3:30PM    Ballet 1 & Ballet 1X \n3:30- 4:00PM    Ballet 2 \n4:00- 4:45PM    Ballet 2X & Ballet 2X/3 \n4:45- 5:30PM    Ballet 3/3X \n  \nDancers in Pre-Ballet & Elementary Ballet are also invited to participate in our Nutcracker Performances.  A sign-up sheet will be available for those interested (there is no audition for Pre & Elem students).
URL:https://www.wayneballetschool.com/event/nutcracker-auditions-ballet-1-through-3x/
END:VEVENT
BEGIN:VEVENT
DTSTART;TZID=America/New_York:20170911T080000
DTEND;TZID=America/New_York:20170911T170000
DTSTAMP:20260422T183900
CREATED:20170912T021940Z
LAST-MODIFIED:20170912T021940Z
UID:1548-1505116800-1505149200@www.wayneballetschool.com
SUMMARY:Nutcracker Auditions Ballet 4X/5
DESCRIPTION:Nutcracker Auditions are scheduled for Friday\, September 22nd & Saturday\, September 23rd\, 2017.  Dancers should come during their respective time slots for auditions.  Please arrive 5 minutes early to sign in and receive a number.  Regular class attire should be worn for auditions (please no warm ups or loose fitting clothing). Remember that Nutcracker is an additional commitment!! Students will be expected to attend Saturday afternoon/evening rehearsals (and Friday for advanced dancers) in addition to their regular weekly classes.  Performances will be the weekend of December 16th. \n  \nAUDITION SCHEDULE \n  \nFriday 9/22/17 \n5:30- 7:00PM    Ballet 4X/5 \n  \nSaturday 9/23/17 \n3:00- 3:30PM    Ballet 1 & Ballet 1X \n3:30- 4:00PM    Ballet 2 \n4:00- 4:45PM    Ballet 2X & Ballet 2X/3 \n4:45- 5:30PM    Ballet 3/3X \n  \nDancers in Pre-Ballet & Elementary Ballet are also invited to participate in our Nutcracker Performances.  A sign-up sheet will be available for those interested (there is no audition for Pre & Elem students).
URL:https://www.wayneballetschool.com/event/nutcracker-auditions-ballet-4x5/
END:VEVENT
BEGIN:VEVENT
DTSTART;TZID=America/New_York:20170905T130000
DTEND;TZID=America/New_York:20170905T210000
DTSTAMP:20260422T183900
CREATED:20170807T173911Z
LAST-MODIFIED:20170807T173912Z
UID:1517-1504616400-1504645200@www.wayneballetschool.com
SUMMARY:First Day of Classes 2017/2018 Season!
DESCRIPTION:
URL:https://www.wayneballetschool.com/event/first-day-of-classes-20172018-season/
END:VEVENT
BEGIN:VEVENT
DTSTART;VALUE=DATE:20170905
DTEND;VALUE=DATE:20170906
DTSTAMP:20260422T183900
CREATED:20171024T181508Z
LAST-MODIFIED:20171024T181508Z
UID:1602-1504569600-1504655999@www.wayneballetschool.com
SUMMARY:Session 1 Begins
DESCRIPTION:
URL:https://www.wayneballetschool.com/event/session-1-begins-3/
END:VEVENT
BEGIN:VEVENT
DTSTART;VALUE=DATE:20170904
DTEND;VALUE=DATE:20170905
DTSTAMP:20260422T183900
CREATED:20170807T173957Z
LAST-MODIFIED:20170807T173957Z
UID:1519-1504483200-1504569599@www.wayneballetschool.com
SUMMARY:Labor Day- Studio Closed
DESCRIPTION:
URL:https://www.wayneballetschool.com/event/labor-day-studio-closed-3/
END:VEVENT
BEGIN:VEVENT
DTSTART;TZID=America/New_York:20170821T093000
DTEND;TZID=America/New_York:20170825T160000
DTSTAMP:20260422T183900
CREATED:20170711T154619Z
LAST-MODIFIED:20170711T154619Z
UID:1364-1503307800-1503676800@www.wayneballetschool.com
SUMMARY:Summer Intensive Levels 4 & Up
DESCRIPTION:
URL:https://www.wayneballetschool.com/event/summer-intensive-levels-4-up/
LOCATION:Wayne Ballet Studios\, 335 W. Lancaster Ave\, Wayne\, PA\, 19087\, United States
END:VEVENT
BEGIN:VEVENT
DTSTART;TZID=America/New_York:20170814T090000
DTEND;TZID=America/New_York:20170818T160000
DTSTAMP:20260422T183900
CREATED:20170221T194336Z
LAST-MODIFIED:20170610T015334Z
UID:1230-1502701200-1503072000@www.wayneballetschool.com
SUMMARY:Summer Intensive- Levels 2 & 3
DESCRIPTION:
URL:https://www.wayneballetschool.com/event/summer-intensive-week-1-2/
END:VEVENT
BEGIN:VEVENT
DTSTART;TZID=America/New_York:20170731T090000
DTEND;TZID=America/New_York:20170804T120000
DTSTAMP:20260422T183900
CREATED:20170711T154708Z
LAST-MODIFIED:20170711T154708Z
UID:1366-1501491600-1501848000@www.wayneballetschool.com
SUMMARY:Princess Camp Week 2!
DESCRIPTION:
URL:https://www.wayneballetschool.com/event/princess-camp-week-2-2/
LOCATION:Wayne Ballet Studios\, 335 W. Lancaster Ave\, Wayne\, PA\, 19087\, United States
END:VEVENT
BEGIN:VEVENT
DTSTART;TZID=America/New_York:20170705T163000
DTEND;TZID=America/New_York:20170808T193000
DTSTAMP:20260422T183900
CREATED:20170623T193702Z
LAST-MODIFIED:20170623T193702Z
UID:1349-1499272200-1502220600@www.wayneballetschool.com
SUMMARY:Summer Mini-Session
DESCRIPTION:
URL:https://www.wayneballetschool.com/event/summer-mini-session-2/
LOCATION:Wayne Ballet Studios\, 335 W. Lancaster Ave\, Wayne\, PA\, 19087\, United States
END:VEVENT
BEGIN:VEVENT
DTSTART;TZID=America/New_York:20170619T090000
DTEND;TZID=America/New_York:20170623T120000
DTSTAMP:20260422T183900
CREATED:20170221T193056Z
LAST-MODIFIED:20170221T193056Z
UID:1224-1497862800-1498219200@www.wayneballetschool.com
SUMMARY:Princess Camp Week 1
DESCRIPTION:
URL:https://www.wayneballetschool.com/event/princess-camp-week-1-2/
END:VEVENT
BEGIN:VEVENT
DTSTART;TZID=America/New_York:20170611T160000
DTEND;TZID=America/New_York:20170611T173000
DTSTAMP:20260422T183900
CREATED:20170530T190740Z
LAST-MODIFIED:20170603T203448Z
UID:1289-1497196800-1497202200@www.wayneballetschool.com
SUMMARY:Spring Showcase 2017 @ 4:00PM
DESCRIPTION:PERFORMANCE 2 @ 4:00PM \nSat Adv Contemporary \nWed Ballet 2 \nTues Pre-School 2 \nSAM VARIATION \nSat Pre-Ballet \nTues Beg/Open Tap (Roar) \nGEORGIA VARIATION \nThurs Ballet 2X/3 \nTues Beginner Jazz \nTheater Dance \n  \n(INTERMISSION) \n  \nWed Ballet 4 & Up \nTues Beg/Open Tap (Stitches) \nWed Ballet 1X \nMADDIE VARIATION \nMon Advanced Jazz \nSat Ballet 1X/2 \nSHANNON VARIATION \nSat Int Contemporary \nTues Ballet 4X/5 \n 
URL:https://www.wayneballetschool.com/event/spring-showcase-2017-400pm/
END:VEVENT
END:VCALENDAR