BEGIN:VCALENDAR
VERSION:2.0
PRODID:-//Wayne Ballet &amp; Center for Dance Arts - ECPv6.15.17.1//NONSGML v1.0//EN
CALSCALE:GREGORIAN
METHOD:PUBLISH
X-WR-CALNAME:Wayne Ballet &amp; Center for Dance Arts
X-ORIGINAL-URL:https://www.wayneballetschool.com
X-WR-CALDESC:Events for Wayne Ballet &amp; Center for Dance Arts
REFRESH-INTERVAL;VALUE=DURATION:PT1H
X-Robots-Tag:noindex
X-PUBLISHED-TTL:PT1H
BEGIN:VTIMEZONE
TZID:America/New_York
BEGIN:DAYLIGHT
TZOFFSETFROM:-0500
TZOFFSETTO:-0400
TZNAME:EDT
DTSTART:20200308T070000
END:DAYLIGHT
BEGIN:STANDARD
TZOFFSETFROM:-0400
TZOFFSETTO:-0500
TZNAME:EST
DTSTART:20201101T060000
END:STANDARD
BEGIN:DAYLIGHT
TZOFFSETFROM:-0500
TZOFFSETTO:-0400
TZNAME:EDT
DTSTART:20210314T070000
END:DAYLIGHT
BEGIN:STANDARD
TZOFFSETFROM:-0400
TZOFFSETTO:-0500
TZNAME:EST
DTSTART:20211107T060000
END:STANDARD
BEGIN:DAYLIGHT
TZOFFSETFROM:-0500
TZOFFSETTO:-0400
TZNAME:EDT
DTSTART:20220313T070000
END:DAYLIGHT
BEGIN:STANDARD
TZOFFSETFROM:-0400
TZOFFSETTO:-0500
TZNAME:EST
DTSTART:20221106T060000
END:STANDARD
BEGIN:DAYLIGHT
TZOFFSETFROM:-0500
TZOFFSETTO:-0400
TZNAME:EDT
DTSTART:20230312T070000
END:DAYLIGHT
BEGIN:STANDARD
TZOFFSETFROM:-0400
TZOFFSETTO:-0500
TZNAME:EST
DTSTART:20231105T060000
END:STANDARD
END:VTIMEZONE
BEGIN:VEVENT
DTSTART;VALUE=DATE:20220627
DTEND;VALUE=DATE:20220702
DTSTAMP:20260421T192609
CREATED:20220521T180257Z
LAST-MODIFIED:20220521T180257Z
UID:4905-1656288000-1656719999@www.wayneballetschool.com
SUMMARY:Princess Camp
DESCRIPTION:
URL:https://www.wayneballetschool.com/event/princess-camp/
END:VEVENT
BEGIN:VEVENT
DTSTART;TZID=America/New_York:20220612T100000
DTEND;TZID=America/New_York:20220612T180000
DTSTAMP:20260421T192609
CREATED:20220117T153159Z
LAST-MODIFIED:20220117T153159Z
UID:4809-1655028000-1655056800@www.wayneballetschool.com
SUMMARY:Showcase 2022 Performances
DESCRIPTION:Wayne Ballet’s end of the year performances!
URL:https://www.wayneballetschool.com/event/showcase-2022-performances/
LOCATION:Agnes Irwin School\, 275 S Ithan Ave\, Rosemont\, PA\, 19010\, United States
END:VEVENT
BEGIN:VEVENT
DTSTART;TZID=America/New_York:20220611T090000
DTEND;TZID=America/New_York:20220611T170000
DTSTAMP:20260421T192609
CREATED:20220117T152838Z
LAST-MODIFIED:20220117T152838Z
UID:4807-1654938000-1654966800@www.wayneballetschool.com
SUMMARY:Showcase 2022 Dress Rehearsal
DESCRIPTION:
URL:https://www.wayneballetschool.com/event/showcase-2022-dress-rehearsal/
LOCATION:Agnes Irwin School\, 275 S Ithan Ave\, Rosemont\, PA\, 19010\, United States
END:VEVENT
BEGIN:VEVENT
DTSTART;VALUE=DATE:20220611
DTEND;VALUE=DATE:20220612
DTSTAMP:20260421T192609
CREATED:20210911T155703Z
LAST-MODIFIED:20210911T155704Z
UID:4735-1654905600-1654991999@www.wayneballetschool.com
SUMMARY:Session 4 Ends
DESCRIPTION:
URL:https://www.wayneballetschool.com/event/session-4-ends-4/
END:VEVENT
BEGIN:VEVENT
DTSTART;VALUE=DATE:20220603
DTEND;VALUE=DATE:20220604
DTSTAMP:20260421T192609
CREATED:20220728T201132Z
LAST-MODIFIED:20220730T154804Z
UID:4963-1654214400-1654300799@www.wayneballetschool.com
SUMMARY:Session 4 Ends
DESCRIPTION:
URL:https://www.wayneballetschool.com/event/session-4-ends-5/
END:VEVENT
BEGIN:VEVENT
DTSTART;VALUE=DATE:20220527
DTEND;VALUE=DATE:20220531
DTSTAMP:20260421T192609
CREATED:20220509T231748Z
LAST-MODIFIED:20220517T023040Z
UID:4889-1653609600-1653955199@www.wayneballetschool.com
SUMMARY:Memorial Day Weekend- Studio Closed
DESCRIPTION:We will be closed Fri May 27th- Mon May 30th
URL:https://www.wayneballetschool.com/event/memorial-day-weekend/
END:VEVENT
BEGIN:VEVENT
DTSTART;VALUE=DATE:20220507
DTEND;VALUE=DATE:20220509
DTSTAMP:20260421T192609
CREATED:20220122T183339Z
LAST-MODIFIED:20220423T162206Z
UID:4813-1651881600-1652054399@www.wayneballetschool.com
SUMMARY:Spring Ballet- Wizard of Oz Performances
DESCRIPTION:Buy tickets now: https://www.showtix4u.com/event-details/63776  \n 
URL:https://www.wayneballetschool.com/event/spring-ballet-wizard-of-oz-performances/
LOCATION:Agnes Irwin School\, 275 S Ithan Ave\, Rosemont\, PA\, 19010\, United States
END:VEVENT
BEGIN:VEVENT
DTSTART;VALUE=DATE:20220506
DTEND;VALUE=DATE:20220507
DTSTAMP:20260421T192609
CREATED:20220122T183226Z
LAST-MODIFIED:20220122T183404Z
UID:4811-1651795200-1651881599@www.wayneballetschool.com
SUMMARY:Spring Ballet- Wizard of Oz Dress Rehearsal
DESCRIPTION:
URL:https://www.wayneballetschool.com/event/spring-ballet-wizard-of-oz-dress-rehearsal/
LOCATION:Agnes Irwin School\, 275 S Ithan Ave\, Rosemont\, PA\, 19010\, United States
END:VEVENT
BEGIN:VEVENT
DTSTART;TZID=America/New_York:20220411T080000
DTEND;TZID=America/New_York:20220417T210000
DTSTAMP:20260421T192609
CREATED:20210911T155911Z
LAST-MODIFIED:20220201T190208Z
UID:4739-1649664000-1650229200@www.wayneballetschool.com
SUMMARY:Spring Break- No Classes
DESCRIPTION:
URL:https://www.wayneballetschool.com/event/spring-break-no-classes/
END:VEVENT
BEGIN:VEVENT
DTSTART;VALUE=DATE:20220327
DTEND;VALUE=DATE:20220328
DTSTAMP:20260421T192609
CREATED:20210911T155638Z
LAST-MODIFIED:20210911T155638Z
UID:4733-1648339200-1648425599@www.wayneballetschool.com
SUMMARY:Session 4 Begins
DESCRIPTION:
URL:https://www.wayneballetschool.com/event/session-4-begins-6/
END:VEVENT
BEGIN:VEVENT
DTSTART;TZID=America/New_York:20220326T080000
DTEND;TZID=America/New_York:20220326T170000
DTSTAMP:20260421T192609
CREATED:20210911T155607Z
LAST-MODIFIED:20210911T155607Z
UID:4731-1648281600-1648314000@www.wayneballetschool.com
SUMMARY:Session 3 Ends
DESCRIPTION:
URL:https://www.wayneballetschool.com/event/session-3-ends-6/
END:VEVENT
BEGIN:VEVENT
DTSTART;VALUE=DATE:20220319
DTEND;VALUE=DATE:20220320
DTSTAMP:20260421T192609
CREATED:20220728T201055Z
LAST-MODIFIED:20220728T201055Z
UID:4961-1647648000-1647734399@www.wayneballetschool.com
SUMMARY:Session 4 Starts
DESCRIPTION:
URL:https://www.wayneballetschool.com/event/session-4-starts/
END:VEVENT
BEGIN:VEVENT
DTSTART;VALUE=DATE:20220318
DTEND;VALUE=DATE:20220319
DTSTAMP:20260421T192609
CREATED:20220728T201009Z
LAST-MODIFIED:20220728T201009Z
UID:4959-1647561600-1647647999@www.wayneballetschool.com
SUMMARY:Session 3 Ends
DESCRIPTION:
URL:https://www.wayneballetschool.com/event/session-3-ends-7/
END:VEVENT
BEGIN:VEVENT
DTSTART;TZID=America/New_York:20220128T180000
DTEND;TZID=America/New_York:20220129T173000
DTSTAMP:20260421T192609
CREATED:20220129T131959Z
LAST-MODIFIED:20220129T131959Z
UID:4816-1643392800-1643477400@www.wayneballetschool.com
SUMMARY:Wizard of Oz Auditions!
DESCRIPTION:SPRING BALLET AUDITIONS! \nFriday\, January 28th and Saturday\, January 29th 2021 \nWayne Ballet’s Spring Ballet this year will be Wizard of Oz!!  Performances will be at The Agnes Irwin School on May 7th and 8th with dress rehearsal on May 6th.  Please note this is Mother’s Day weekend and there will be a matinee performance on Sunday.  \nSpring Ballet is open to dancers in Ballet 1 and up.  Dancers interested in participating should use the below audition schedule for next weekend!  Time slots for auditions are by level.  Please arrive 5 minutes early to sign in and receive a number.  Regular class attire should be worn for auditions (please no warm ups or loose fitting clothing)!  Remember Spring Ballet is an additional commitment outside of regular weekly classes- students will be expected to attend Saturday afternoon/evening rehearsals (and Friday for advanced dancers). \nAUDITION SCHEDULE \nFriday\, Jan 28th \n6:00- 7:30PM    Ballet 5 and 6 \nSaturday\, Jan 29th \n3:00- 3:30PM    Ballet 1 and Ballet 1X \n3:30- 4:00PM    Ballet 2 \n4:15- 4:45PM    Ballet 3 and Ballet 3X \n4:45- 5:30PM    Ballet 3X and Ballet 4
URL:https://www.wayneballetschool.com/event/wizard-of-oz-auditions/
LOCATION:Wayne Ballet Studios\, 335 W. Lancaster Ave\, Wayne\, PA\, 19087\, United States
END:VEVENT
BEGIN:VEVENT
DTSTART;VALUE=DATE:20220123
DTEND;VALUE=DATE:20220124
DTSTAMP:20260421T192609
CREATED:20210911T155538Z
LAST-MODIFIED:20210911T155538Z
UID:4729-1642896000-1642982399@www.wayneballetschool.com
SUMMARY:Session 3 Begins
DESCRIPTION:
URL:https://www.wayneballetschool.com/event/session-3-begins-7/
END:VEVENT
BEGIN:VEVENT
DTSTART;VALUE=DATE:20220122
DTEND;VALUE=DATE:20220123
DTSTAMP:20260421T192609
CREATED:20210911T155516Z
LAST-MODIFIED:20210911T155516Z
UID:4727-1642809600-1642895999@www.wayneballetschool.com
SUMMARY:Session 2 Ends
DESCRIPTION:
URL:https://www.wayneballetschool.com/event/session-2-ends-6/
END:VEVENT
BEGIN:VEVENT
DTSTART;VALUE=DATE:20220117
DTEND;VALUE=DATE:20220118
DTSTAMP:20260421T192609
CREATED:20220106T164720Z
LAST-MODIFIED:20220106T164720Z
UID:4805-1642377600-1642463999@www.wayneballetschool.com
SUMMARY:MLK Day- Studio closed!
DESCRIPTION:There will be no classes on Martin Luther King Day!
URL:https://www.wayneballetschool.com/event/mlk-day-studio-closed-3/
END:VEVENT
BEGIN:VEVENT
DTSTART;VALUE=DATE:20220115
DTEND;VALUE=DATE:20220116
DTSTAMP:20260421T192609
CREATED:20220728T000831Z
LAST-MODIFIED:20220728T200921Z
UID:4957-1642204800-1642291199@www.wayneballetschool.com
SUMMARY:Session 3 Starts
DESCRIPTION:
URL:https://www.wayneballetschool.com/event/session-3-starts/
END:VEVENT
BEGIN:VEVENT
DTSTART;TZID=America/New_York:20211219T080000
DTEND;TZID=America/New_York:20220101T210000
DTSTAMP:20260421T192609
CREATED:20210911T155820Z
LAST-MODIFIED:20210911T155820Z
UID:4737-1639900800-1641070800@www.wayneballetschool.com
SUMMARY:Winter Break- No Classes
DESCRIPTION:
URL:https://www.wayneballetschool.com/event/winter-break-no-classes/
END:VEVENT
BEGIN:VEVENT
DTSTART;VALUE=DATE:20211218
DTEND;VALUE=DATE:20211220
DTSTAMP:20260421T192609
CREATED:20211102T174247Z
LAST-MODIFIED:20211102T174248Z
UID:4747-1639785600-1639958399@www.wayneballetschool.com
SUMMARY:Nutcracker Performances!
DESCRIPTION:2 Performances Saturday\, 1 Sunday\, times TBD
URL:https://www.wayneballetschool.com/event/nutcracker-performances-3/
LOCATION:Agnes Irwin School\, 275 S Ithan Ave\, Rosemont\, PA\, 19010\, United States
ATTACH;FMTTYPE=image/jpeg:https://www.wayneballetschool.com/wp-content/uploads/2019/09/WBCDA-Nutcracker-2018-Party-226.jpg
END:VEVENT
BEGIN:VEVENT
DTSTART;TZID=America/New_York:20211217T160000
DTEND;TZID=America/New_York:20211217T210000
DTSTAMP:20260421T192609
CREATED:20211102T174329Z
LAST-MODIFIED:20211102T174329Z
UID:4749-1639756800-1639774800@www.wayneballetschool.com
SUMMARY:Nutcracker Dress Rehearsal
DESCRIPTION:
URL:https://www.wayneballetschool.com/event/nutcracker-dress-rehearsal-2/
LOCATION:Agnes Irwin School\, 275 S Ithan Ave\, Rosemont\, PA\, 19010\, United States
END:VEVENT
BEGIN:VEVENT
DTSTART;VALUE=DATE:20211125
DTEND;VALUE=DATE:20211129
DTSTAMP:20260421T192609
CREATED:20211109T214027Z
LAST-MODIFIED:20211109T214027Z
UID:4754-1637798400-1638143999@www.wayneballetschool.com
SUMMARY:Thanksgiving Break- no classes!
DESCRIPTION:Our studios will be closed for Thanksgiving Break from Thursday through Saturday.  There will be no classes during this time.  We will still hold our full class schedule on Wednesday\, Nov 24th.
URL:https://www.wayneballetschool.com/event/thanksgiving-break-no-classes/
END:VEVENT
BEGIN:VEVENT
DTSTART;VALUE=DATE:20211107
DTEND;VALUE=DATE:20211108
DTSTAMP:20260421T192609
CREATED:20210911T155447Z
LAST-MODIFIED:20210911T155447Z
UID:4725-1636243200-1636329599@www.wayneballetschool.com
SUMMARY:Session 2 Begins
DESCRIPTION:
URL:https://www.wayneballetschool.com/event/session-2-begins-7/
END:VEVENT
BEGIN:VEVENT
DTSTART;VALUE=DATE:20211106
DTEND;VALUE=DATE:20211107
DTSTAMP:20260421T192609
CREATED:20210911T155354Z
LAST-MODIFIED:20210911T155354Z
UID:4723-1636156800-1636243199@www.wayneballetschool.com
SUMMARY:Session 1 Ends
DESCRIPTION:
URL:https://www.wayneballetschool.com/event/session-1-ends-6/
END:VEVENT
BEGIN:VEVENT
DTSTART;VALUE=DATE:20210907
DTEND;VALUE=DATE:20210908
DTSTAMP:20260421T192609
CREATED:20210911T155329Z
LAST-MODIFIED:20210911T155329Z
UID:4721-1630972800-1631059199@www.wayneballetschool.com
SUMMARY:Session 1 Begins
DESCRIPTION:
URL:https://www.wayneballetschool.com/event/session-1-begins-7/
END:VEVENT
BEGIN:VEVENT
DTSTART;TZID=America/New_York:20210823T090000
DTEND;TZID=America/New_York:20210827T160000
DTSTAMP:20260421T192609
CREATED:20210428T231731Z
LAST-MODIFIED:20210616T211637Z
UID:4642-1629709200-1630080000@www.wayneballetschool.com
SUMMARY:Summer Intensive Week 2 (Advanced)
DESCRIPTION:See full intensive brochure: Summer Intensive 2021 Brochure \nTo Register:  Registration and 50% deposit is due by June 30th\, 2021.  Remainder of tuition is due by July 31st\, 2021.  Registration can be completed by email\, or through our parent portal at https://dancestudio-pro.com/online/wayneballet.  
URL:https://www.wayneballetschool.com/event/summer-intensive-week-2-advanced/
END:VEVENT
BEGIN:VEVENT
DTSTART;TZID=America/New_York:20210816T090000
DTEND;TZID=America/New_York:20210820T160000
DTSTAMP:20260421T192609
CREATED:20210428T231638Z
LAST-MODIFIED:20210616T211703Z
UID:4640-1629104400-1629475200@www.wayneballetschool.com
SUMMARY:Summer Intensive Week 1 (Beginner & Advanced)
DESCRIPTION:See full intensive brochure: Summer Intensive 2021 Brochure \nTo Register:  Registration and 50% deposit is due by June 30th\, 2021.  Remainder of tuition is due by July 31st\, 2021.  Registration can be completed by email\, or through our parent portal at https://dancestudio-pro.com/online/wayneballet.  
URL:https://www.wayneballetschool.com/event/summer-intensive-week-1-beginner-advanced/
END:VEVENT
BEGIN:VEVENT
DTSTART;TZID=America/New_York:20210809T090000
DTEND;TZID=America/New_York:20210813T123000
DTSTAMP:20260421T192609
CREATED:20210428T230400Z
LAST-MODIFIED:20210616T211835Z
UID:4636-1628499600-1628857800@www.wayneballetschool.com
SUMMARY:Dance & Creative Arts Camp (ages 7-9)
DESCRIPTION:See full Brochure:  Dance & Creative Arts Camp Brochure 2021 \nTo Register:  Payment is due upon registration to secure a place in camp. Registration can be completed online through the Parent Portal for your convenience at https://dancestudio-pro.com/online/wayneballet.   Registrations can also be submitted via email to wayneballet@gmail.com.  
URL:https://www.wayneballetschool.com/event/youth-dance-camp-ages-6-8/
END:VEVENT
BEGIN:VEVENT
DTSTART;TZID=America/New_York:20210705T160000
DTEND;TZID=America/New_York:20210806T200000
DTSTAMP:20260421T192609
CREATED:20210428T231439Z
LAST-MODIFIED:20210508T164559Z
UID:4638-1625500800-1628280000@www.wayneballetschool.com
SUMMARY:Summer Mini-Session
DESCRIPTION:See full mini-session Brochure:  Summer Mini-Session 2021 Brochure \nTo Register: Tuition is due upon registration to secure a place in our summer classes.  Registration can be completed online through the Parent Portal for your convenience at https://dancestudio-pro.com/online/wayneballet.   Registrations can also be submitted via email to wayneballet@gmail.com.  Because the studio operates on a limited schedule in the summer we ask that you please use the Portal or email to register rather than calling the studio.  
URL:https://www.wayneballetschool.com/event/summer-mini-session-4/
END:VEVENT
BEGIN:VEVENT
DTSTART;TZID=America/New_York:20210628T090000
DTEND;TZID=America/New_York:20210702T120000
DTSTAMP:20260421T192609
CREATED:20210428T214113Z
LAST-MODIFIED:20210508T164420Z
UID:4634-1624870800-1625227200@www.wayneballetschool.com
SUMMARY:Princess/Prince Camp (ages 3-5)
DESCRIPTION:See full brochure:  Princess/Prince Camp Brochure 2021 \nTo Register:  Payment is due upon registration to secure a place in camp. Registration can be completed online through the Parent Portal for your convenience at https://dancestudio-pro.com/online/wayneballet.   Registrations can also be submitted via email to wayneballet@gmail.com.  
URL:https://www.wayneballetschool.com/event/princess-camp-ages-3-5/
END:VEVENT
END:VCALENDAR