BEGIN:VCALENDAR
VERSION:2.0
PRODID:-//Wayne Ballet &amp; Center for Dance Arts - ECPv6.15.17.1//NONSGML v1.0//EN
CALSCALE:GREGORIAN
METHOD:PUBLISH
X-WR-CALNAME:Wayne Ballet &amp; Center for Dance Arts
X-ORIGINAL-URL:https://www.wayneballetschool.com
X-WR-CALDESC:Events for Wayne Ballet &amp; Center for Dance Arts
REFRESH-INTERVAL;VALUE=DURATION:PT1H
X-Robots-Tag:noindex
X-PUBLISHED-TTL:PT1H
BEGIN:VTIMEZONE
TZID:America/New_York
BEGIN:DAYLIGHT
TZOFFSETFROM:-0500
TZOFFSETTO:-0400
TZNAME:EDT
DTSTART:20180311T070000
END:DAYLIGHT
BEGIN:STANDARD
TZOFFSETFROM:-0400
TZOFFSETTO:-0500
TZNAME:EST
DTSTART:20181104T060000
END:STANDARD
BEGIN:DAYLIGHT
TZOFFSETFROM:-0500
TZOFFSETTO:-0400
TZNAME:EDT
DTSTART:20190310T070000
END:DAYLIGHT
BEGIN:STANDARD
TZOFFSETFROM:-0400
TZOFFSETTO:-0500
TZNAME:EST
DTSTART:20191103T060000
END:STANDARD
BEGIN:DAYLIGHT
TZOFFSETFROM:-0500
TZOFFSETTO:-0400
TZNAME:EDT
DTSTART:20200308T070000
END:DAYLIGHT
BEGIN:STANDARD
TZOFFSETFROM:-0400
TZOFFSETTO:-0500
TZNAME:EST
DTSTART:20201101T060000
END:STANDARD
BEGIN:DAYLIGHT
TZOFFSETFROM:-0500
TZOFFSETTO:-0400
TZNAME:EDT
DTSTART:20210314T070000
END:DAYLIGHT
BEGIN:STANDARD
TZOFFSETFROM:-0400
TZOFFSETTO:-0500
TZNAME:EST
DTSTART:20211107T060000
END:STANDARD
END:VTIMEZONE
BEGIN:VEVENT
DTSTART;VALUE=DATE:20201125
DTEND;VALUE=DATE:20201130
DTSTAMP:20260422T011338
CREATED:20201107T191859Z
LAST-MODIFIED:20201107T191859Z
UID:4582-1606262400-1606694399@www.wayneballetschool.com
SUMMARY:Thanksgiving Break- Studio closed
DESCRIPTION:
URL:https://www.wayneballetschool.com/event/thanksgiving-break-studio-closed-4/
END:VEVENT
BEGIN:VEVENT
DTSTART;VALUE=DATE:20201101
DTEND;VALUE=DATE:20201102
DTSTAMP:20260422T011338
CREATED:20201107T192514Z
LAST-MODIFIED:20201107T192514Z
UID:4594-1604188800-1604275199@www.wayneballetschool.com
SUMMARY:Session 2 begins
DESCRIPTION:
URL:https://www.wayneballetschool.com/event/session-2-begins-6/
END:VEVENT
BEGIN:VEVENT
DTSTART;VALUE=DATE:20201031
DTEND;VALUE=DATE:20201101
DTSTAMP:20260422T011338
CREATED:20201107T192454Z
LAST-MODIFIED:20201107T192454Z
UID:4592-1604102400-1604188799@www.wayneballetschool.com
SUMMARY:Session 1 ends
DESCRIPTION:
URL:https://www.wayneballetschool.com/event/session-1-ends-5/
END:VEVENT
BEGIN:VEVENT
DTSTART;VALUE=DATE:20200830
DTEND;VALUE=DATE:20200831
DTSTAMP:20260422T011338
CREATED:20201107T192428Z
LAST-MODIFIED:20201107T192428Z
UID:4590-1598745600-1598831999@www.wayneballetschool.com
SUMMARY:Session 1 begins
DESCRIPTION:
URL:https://www.wayneballetschool.com/event/session-1-begins-6/
END:VEVENT
BEGIN:VEVENT
DTSTART;TZID=America/New_York:20200504T080000
DTEND;TZID=America/New_York:20200614T170000
DTSTAMP:20260422T011338
CREATED:20200528T181754Z
LAST-MODIFIED:20200528T181754Z
UID:4430-1588579200-1592154000@www.wayneballetschool.com
SUMMARY:Virtual Classes- May to June Session
DESCRIPTION:
URL:https://www.wayneballetschool.com/event/virtual-classes-may-to-june-session/
END:VEVENT
BEGIN:VEVENT
DTSTART;TZID=America/New_York:20200329T090000
DTEND;TZID=America/New_York:20200502T210000
DTSTAMP:20260422T011338
CREATED:20200408T135444Z
LAST-MODIFIED:20200408T135444Z
UID:4418-1585472400-1588453200@www.wayneballetschool.com
SUMMARY:Virtual Classes- April Session
DESCRIPTION:
URL:https://www.wayneballetschool.com/event/virtual-classes-april-session/
END:VEVENT
BEGIN:VEVENT
DTSTART;VALUE=DATE:20200328
DTEND;VALUE=DATE:20200329
DTSTAMP:20260422T011338
CREATED:20190829T013121Z
LAST-MODIFIED:20190829T013121Z
UID:4182-1585353600-1585439999@www.wayneballetschool.com
SUMMARY:Session 3 Ends
DESCRIPTION:
URL:https://www.wayneballetschool.com/event/session-3-ends-4/
END:VEVENT
BEGIN:VEVENT
DTSTART;VALUE=DATE:20200316
DTEND;VALUE=DATE:20200317
DTSTAMP:20260422T011338
CREATED:20190829T013807Z
LAST-MODIFIED:20190829T013807Z
UID:4194-1584316800-1584403199@www.wayneballetschool.com
SUMMARY:Session 4 Tuition Due
DESCRIPTION:
URL:https://www.wayneballetschool.com/event/session-4-tuition-due-2/
END:VEVENT
BEGIN:VEVENT
DTSTART;TZID=America/New_York:20200124T180000
DTEND;TZID=America/New_York:20200125T173000
DTSTAMP:20260422T011338
CREATED:20200118T135553Z
LAST-MODIFIED:20200118T135553Z
UID:4391-1579888800-1579973400@www.wayneballetschool.com
SUMMARY:Spring Ballet Auditions
DESCRIPTION:Snow White Auditions!  \nAuditions for Snow White\, this year’s Spring Ballet\, are scheduled for Friday\, January 24th and Saturday\, January 25th\, 2020. Dancers should come during their respective time slots for auditions.  Please arrive 5 minutes early to sign in and receive a number.  Regular class attire should be worn for auditions (please no warm ups or loose fitting clothing).  Remember that the Spring Ballet is an additional commitment!! Students will be expected to attend Saturday afternoon/evening rehearsals (and Friday for advanced dancers) in addition to their regular weekly classes.  Performances will be May 9th and 10th at The Agnes Irwin School. \nAudition Schedule:  Friday\, January 24th\, 2020 \n6:00- 7:15   Ballet 4 & Ballet 5 \nSaturday\, January 25th\, 2020 \n3:00- 3:30   Ballet 1 & Ballet 1X \n3:30- 4:00   Ballet 2\, Ballet 2X \n4:00- 4:45   Ballet 2X/3\, Ballet 3 \n4:45- 5:30 Ballet 3X
URL:https://www.wayneballetschool.com/event/spring-ballet-auditions-2/
LOCATION:Wayne Ballet Studios\, 335 W. Lancaster Ave\, Wayne\, PA\, 19087\, United States
ATTACH;FMTTYPE=image/jpeg:https://www.wayneballetschool.com/wp-content/uploads/2020/01/snow-white.jpeg
END:VEVENT
BEGIN:VEVENT
DTSTART;VALUE=DATE:20200120
DTEND;VALUE=DATE:20200121
DTSTAMP:20260422T011338
CREATED:20190916T232324Z
LAST-MODIFIED:20190916T232324Z
UID:4223-1579478400-1579564799@www.wayneballetschool.com
SUMMARY:Martin Luther King Day- Studio Closed
DESCRIPTION:
URL:https://www.wayneballetschool.com/event/martin-luther-king-day-studio-closed-4/
END:VEVENT
BEGIN:VEVENT
DTSTART;VALUE=DATE:20200119
DTEND;VALUE=DATE:20200120
DTSTAMP:20260422T011338
CREATED:20190829T013030Z
LAST-MODIFIED:20190829T013031Z
UID:4180-1579392000-1579478399@www.wayneballetschool.com
SUMMARY:Session 3 Begins
DESCRIPTION:
URL:https://www.wayneballetschool.com/event/session-3-begins-5/
END:VEVENT
BEGIN:VEVENT
DTSTART;TZID=America/New_York:20200118T080000
DTEND;TZID=America/New_York:20200118T170000
DTSTAMP:20260422T011338
CREATED:20190829T012937Z
LAST-MODIFIED:20190829T012937Z
UID:4178-1579334400-1579366800@www.wayneballetschool.com
SUMMARY:Session 2 Ends
DESCRIPTION:
URL:https://www.wayneballetschool.com/event/session-2-ends-4/
END:VEVENT
BEGIN:VEVENT
DTSTART;VALUE=DATE:20200106
DTEND;VALUE=DATE:20200107
DTSTAMP:20260422T011338
CREATED:20190829T013727Z
LAST-MODIFIED:20190829T013727Z
UID:4192-1578268800-1578355199@www.wayneballetschool.com
SUMMARY:Session 3 Tuition Due
DESCRIPTION:
URL:https://www.wayneballetschool.com/event/session-3-tuition-due-2/
END:VEVENT
BEGIN:VEVENT
DTSTART;VALUE=DATE:20191223
DTEND;VALUE=DATE:20200106
DTSTAMP:20260422T011338
CREATED:20190916T232249Z
LAST-MODIFIED:20190916T232250Z
UID:4221-1577059200-1578268799@www.wayneballetschool.com
SUMMARY:Winter Break- Studio Closed!
DESCRIPTION:
URL:https://www.wayneballetschool.com/event/winter-break-studio-closed-4/
END:VEVENT
BEGIN:VEVENT
DTSTART;TZID=America/New_York:20191213T160000
DTEND;TZID=America/New_York:20191215T160000
DTSTAMP:20260422T011338
CREATED:20190829T003800Z
LAST-MODIFIED:20190829T003809Z
UID:4166-1576252800-1576425600@www.wayneballetschool.com
SUMMARY:Nutcracker Performances 2019!
DESCRIPTION:Dress Rehearsal Friday \nShows Saturday and Sunday (Times TBA) \nUpper Merion Middle School
URL:https://www.wayneballetschool.com/event/nutcracker-performances-2019/
LOCATION:Upper Merion Middle School\, 450 Keebler Road\, King of Prussia\, PA\, 19406\, United States
END:VEVENT
BEGIN:VEVENT
DTSTART;VALUE=DATE:20191127
DTEND;VALUE=DATE:20191202
DTSTAMP:20260422T011338
CREATED:20190916T232211Z
LAST-MODIFIED:20190916T232211Z
UID:4219-1574812800-1575244799@www.wayneballetschool.com
SUMMARY:Thanksgiving Break- Studio Closed
DESCRIPTION:
URL:https://www.wayneballetschool.com/event/thanksgiving-break-studio-closed-3/
END:VEVENT
BEGIN:VEVENT
DTSTART;TZID=America/New_York:20191104T160000
DTEND;TZID=America/New_York:20191116T140000
DTSTAMP:20260422T011338
CREATED:20191102T140548Z
LAST-MODIFIED:20191102T140549Z
UID:4353-1572883200-1573912800@www.wayneballetschool.com
SUMMARY:Parent Observation Weeks- select classes
DESCRIPTION:PARENT OBSERVATION CLASSES! \nWe would like to announce an exciting opportunity to watch your dancer in action!  We will be offering parent observation in select ballet classes throughout the beginning of November.  In order to avoid congestion in the parking lot and studios\, observation classes will be divided over 2 weeks- please refer to the schedule below for dates & times!  Plan to arrive 5 minutes early so that we can avoid disruptions once classes have begun!  It is not mandatory that you attend an observation (and families with dancers taking more than one class may choose to observe only one or both of the classes offered).  We hope you find these observations helpful in encouraging your dancer’s growth and understanding of the technique! \n  \nClasses for observation the week of Nov 4th – Nov 9th \nMonday Pre-Ballet  4:30 – 5:30PM \nMonday Ballet 4X/5  6:30 – 8:00PM (technique class only) \nTuesday Ballet 1  4:30 – 5:30PM \nThursday Elementary Ballet  4:30 – 5:30PM \nThursday Ballet 2X/3  6:30 – 8:00PM \nFriday Elementary Ballet  4:30 – 5:30PM \nSaturday Ballet 1  11:15AM – 12:15PM \nSaturday Ballet 2X/3  12:30 – 2:00PM \n  \nClasses for observation the week of Nov 11th – Nov 16th \nMonday Ballet 2  6:30 – 8:00PM \nTuesday Ballet 1X  5:30 – 7:00PM \nWednesday Ballet 2  4:30 – 6:00PM \nThursday Ballet 3X  6:00 – 8:00PM \nFriday Ballet 4 & Up  4:30 – 6:00PM (technique class only)
URL:https://www.wayneballetschool.com/event/parent-observation-weeks-select-classes/
LOCATION:Wayne Ballet Studios\, 335 W. Lancaster Ave\, Wayne\, PA\, 19087\, United States
END:VEVENT
BEGIN:VEVENT
DTSTART;VALUE=DATE:20191103
DTEND;VALUE=DATE:20191104
DTSTAMP:20260422T011338
CREATED:20190829T012906Z
LAST-MODIFIED:20190829T012906Z
UID:4176-1572739200-1572825599@www.wayneballetschool.com
SUMMARY:Session 2 Begins
DESCRIPTION:
URL:https://www.wayneballetschool.com/event/session-2-begins-5/
END:VEVENT
BEGIN:VEVENT
DTSTART;VALUE=DATE:20191102
DTEND;VALUE=DATE:20191103
DTSTAMP:20260422T011338
CREATED:20190829T012803Z
LAST-MODIFIED:20190829T012803Z
UID:4174-1572652800-1572739199@www.wayneballetschool.com
SUMMARY:Session 1 Ends
DESCRIPTION:
URL:https://www.wayneballetschool.com/event/session-1-ends-4/
END:VEVENT
BEGIN:VEVENT
DTSTART;VALUE=DATE:20191031
DTEND;VALUE=DATE:20191101
DTSTAMP:20260422T011338
CREATED:20191028T175813Z
LAST-MODIFIED:20191028T175814Z
UID:4344-1572480000-1572566399@www.wayneballetschool.com
SUMMARY:Halloween- Studio Closed!
DESCRIPTION:On Halloween the studio will be closed for all classes after 12:00PM.  There will still be morning Adult Theater Dance 10:30AM-12:00PM that day!
URL:https://www.wayneballetschool.com/event/halloween-studio-closed/
END:VEVENT
BEGIN:VEVENT
DTSTART;VALUE=DATE:20191021
DTEND;VALUE=DATE:20191022
DTSTAMP:20260422T011338
CREATED:20190829T013612Z
LAST-MODIFIED:20190829T013613Z
UID:4190-1571616000-1571702399@www.wayneballetschool.com
SUMMARY:Session 2 Tuition Due
DESCRIPTION:
URL:https://www.wayneballetschool.com/event/session-2-tuition-due-2/
END:VEVENT
BEGIN:VEVENT
DTSTART;TZID=America/New_York:20190921T150000
DTEND;TZID=America/New_York:20190921T180000
DTSTAMP:20260422T011338
CREATED:20190829T004218Z
LAST-MODIFIED:20190916T210320Z
UID:4170-1569078000-1569088800@www.wayneballetschool.com
SUMMARY:Nutcracker Auditions
DESCRIPTION:NUTCRACKER AUDITIONS!  \nNutcracker Auditions are scheduled for Friday\, September 20th & Saturday\, September 21st\, 2019.  Dancers are assigned time slots for auditions by level.  Please arrive 5 minutes early to sign in and receive a number.  Regular class attire should be worn for auditions (please no warm ups or loose fitting clothing).  Students must be attending the required number of ballet classes per week for their level to be considered.  Remember Nutcracker is an additional commitment!! Students will be expected to attend Saturday afternoon/evening rehearsals (and Friday for advanced dancers) in addition to their regular weekly classes.  Performances will be the weekend of December 14th! \nAUDITION SCHEDULE \nFriday 9/20/19 \n5:30- 7:00PM    Ballet 4\, Ballet 4X\, and Ballet 5 \nSaturday 9/21/19 \n3:00- 3:30PM    Ballet 1\, Ballet 1X\, and Ballet 1X/2 \n3:30- 4:00PM    Ballet 2 & Ballet 2/2X \n4:00- 4:45PM    Ballet 2X\, 2X/3\, and Ballet 3 \n4:45- 5:30PM    Ballet 3\, Ballet 3X\, and Ballet 3X/4 \nDancers in Pre-Ballet & Elementary Ballet are also invited to participate in our Nutcracker Performances!  A sign-up sheet is available in the front lobby for those interested (there is no audition for Pre & Elem students).
URL:https://www.wayneballetschool.com/event/nutcracker-auditions-2/
ATTACH;FMTTYPE=image/jpeg:https://www.wayneballetschool.com/wp-content/uploads/2019/08/WBCDA-Nutcracker-2018-Sweets-292.jpg
END:VEVENT
BEGIN:VEVENT
DTSTART;TZID=America/New_York:20190920T183000
DTEND;TZID=America/New_York:20190920T203000
DTSTAMP:20260422T011338
CREATED:20190829T004038Z
LAST-MODIFIED:20190916T205839Z
UID:4168-1569004200-1569011400@www.wayneballetschool.com
SUMMARY:Nutcracker Auditions
DESCRIPTION:NUTCRACKER AUDITIONS!  \nNutcracker Auditions are scheduled for Friday\, September 20th & Saturday\, September 21st\, 2019.  Dancers are assigned time slots for auditions by level.  Please arrive 5 minutes early to sign in and receive a number.  Regular class attire should be worn for auditions (please no warm ups or loose fitting clothing).  Students must be attending the required number of ballet classes per week for their level to be considered.  Remember Nutcracker is an additional commitment!! Students will be expected to attend Saturday afternoon/evening rehearsals (and Friday for advanced dancers) in addition to their regular weekly classes.  Performances will be the weekend of December 14th! \nAUDITION SCHEDULE \nFriday 9/20/19 \n5:30- 7:00PM    Ballet 4\, Ballet 4X\, and Ballet 5 \nSaturday 9/21/19 \n3:00- 3:30PM    Ballet 1\, Ballet 1X\, and Ballet 1X/2 \n3:30- 4:00PM    Ballet 2 & Ballet 2/2X \n4:00- 4:45PM    Ballet 2X\, 2X/3\, and Ballet 3 \n4:45- 5:30PM    Ballet 3\, Ballet 3X\, and Ballet 3X/4 \nDancers in Pre-Ballet & Elementary Ballet are also invited to participate in our Nutcracker Performances!  A sign-up sheet is available in the front lobby for those interested (there is no audition for Pre & Elem students).
URL:https://www.wayneballetschool.com/event/nutcracker-auditions/
LOCATION:Wayne Ballet Studios\, 335 W. Lancaster Ave\, Wayne\, PA\, 19087\, United States
ATTACH;FMTTYPE=image/jpeg:https://www.wayneballetschool.com/wp-content/uploads/2019/08/WBCDA-Nutcracker-2018-Sweets-292.jpg
END:VEVENT
BEGIN:VEVENT
DTSTART;VALUE=DATE:20190903
DTEND;VALUE=DATE:20190904
DTSTAMP:20260422T011338
CREATED:20190829T013454Z
LAST-MODIFIED:20190829T013455Z
UID:4188-1567468800-1567555199@www.wayneballetschool.com
SUMMARY:Session 1 Payment Due
DESCRIPTION:
URL:https://www.wayneballetschool.com/event/session-1-payment-due/
END:VEVENT
BEGIN:VEVENT
DTSTART;VALUE=DATE:20190903
DTEND;VALUE=DATE:20190904
DTSTAMP:20260422T011338
CREATED:20190829T012503Z
LAST-MODIFIED:20190829T012503Z
UID:4172-1567468800-1567555199@www.wayneballetschool.com
SUMMARY:Session 1 Begins
DESCRIPTION:
URL:https://www.wayneballetschool.com/event/session-1-begins-5/
END:VEVENT
BEGIN:VEVENT
DTSTART;TZID=America/New_York:20190819T090000
DTEND;TZID=America/New_York:20190823T150000
DTSTAMP:20260422T011338
CREATED:20190209T181200Z
LAST-MODIFIED:20190209T181200Z
UID:3991-1566205200-1566572400@www.wayneballetschool.com
SUMMARY:Advanced Summer Intensive Week 2
DESCRIPTION:
URL:https://www.wayneballetschool.com/event/advanced-summer-intensive-week-2/
LOCATION:Wayne Ballet Studios\, 335 W. Lancaster Ave\, Wayne\, PA\, 19087\, United States
END:VEVENT
BEGIN:VEVENT
DTSTART;TZID=America/New_York:20190812T090000
DTEND;TZID=America/New_York:20190816T150000
DTSTAMP:20260422T011338
CREATED:20190209T181125Z
LAST-MODIFIED:20190209T181125Z
UID:3989-1565600400-1565967600@www.wayneballetschool.com
SUMMARY:Advanced Summer Intensive Week 1
DESCRIPTION:
URL:https://www.wayneballetschool.com/event/advanced-summer-intensive-week-1/
LOCATION:Wayne Ballet Studios\, 335 W. Lancaster Ave\, Wayne\, PA\, 19087\, United States
END:VEVENT
BEGIN:VEVENT
DTSTART;TZID=America/New_York:20190812T090000
DTEND;TZID=America/New_York:20190816T130000
DTSTAMP:20260422T011338
CREATED:20190209T181044Z
LAST-MODIFIED:20190209T181045Z
UID:3987-1565600400-1565960400@www.wayneballetschool.com
SUMMARY:Beginner Summer Intensive
DESCRIPTION:Levels 1X through 2X
URL:https://www.wayneballetschool.com/event/beginner-summer-intensive/
LOCATION:Wayne Ballet Studios\, 335 W. Lancaster Ave\, Wayne\, PA\, 19087\, United States
END:VEVENT
BEGIN:VEVENT
DTSTART;TZID=America/New_York:20190708T160000
DTEND;TZID=America/New_York:20190809T210000
DTSTAMP:20260422T011338
CREATED:20190209T180929Z
LAST-MODIFIED:20190209T180929Z
UID:3985-1562601600-1565384400@www.wayneballetschool.com
SUMMARY:Summer Mini-Session
DESCRIPTION:
URL:https://www.wayneballetschool.com/event/summer-mini-session-3/
LOCATION:Wayne Ballet Studios\, 335 W. Lancaster Ave\, Wayne\, PA\, 19087\, United States
END:VEVENT
BEGIN:VEVENT
DTSTART;TZID=America/New_York:20190624T090000
DTEND;TZID=America/New_York:20190628T120000
DTSTAMP:20260422T011338
CREATED:20190209T180826Z
LAST-MODIFIED:20190209T180826Z
UID:3983-1561366800-1561723200@www.wayneballetschool.com
SUMMARY:Princess/Prince Camp Week 2
DESCRIPTION:
URL:https://www.wayneballetschool.com/event/princess-prince-camp-week-2/
LOCATION:Wayne Ballet Studios\, 335 W. Lancaster Ave\, Wayne\, PA\, 19087\, United States
END:VEVENT
END:VCALENDAR